BEGIN:VCALENDAR
VERSION:2.0
PRODID:-//ChamberMaster//Event Calendar 2.0//EN
METHOD:PUBLISH
X-PUBLISHED-TTL:P3D
REFRESH-INTERVAL:P3D
CALSCALE:GREGORIAN
BEGIN:VEVENT
DTSTART:20190309T160000Z
DTEND:20190309T200000Z
X-MICROSOFT-CDO-ALLDAYEVENT:FALSE
SUMMARY:Theater Auditions for Chartlotte's Web
DESCRIPTION:Register your kids today to audition for our theater performance of Charlotte's Web.
X-ALT-DESC;FMTTYPE=text/html:Register your kids today to audition for our theater performance of Charlotte&#39\;s Web.
LOCATION:Jam Hops\, 1460 133rd Lane NE\, Ham Lake
UID:e.380.188365
SEQUENCE:3
DTSTAMP:20260420T073553Z
URL:http://members.metronorthchamber.org/events/details/theater-auditions-for-chartlotte-s-web-188365
END:VEVENT

END:VCALENDAR
