BEGIN:VCALENDAR
VERSION:2.0
PRODID:-//ChamberMaster//Event Calendar 2.0//EN
METHOD:PUBLISH
X-PUBLISHED-TTL:P3D
REFRESH-INTERVAL:P3D
CALSCALE:GREGORIAN
BEGIN:VEVENT
DTSTART:20190928T150000Z
DTEND:20190928T190000Z
X-MICROSOFT-CDO-ALLDAYEVENT:FALSE
SUMMARY:Theater Auditions
DESCRIPTION:We are excited to announce that  our fall production will take place in our NEW and IMPROVED\, dedicated theater space in Anoka!!!\n\n(1138 Bunker Lake Blvd Anoka\, MN 55303)
X-ALT-DESC;FMTTYPE=text/html:<p style="text-align:center"><span style="font-size:14px"><strong>We are excited to announce that&nbsp\; our fall production will take place in&nbsp\;our NEW&nbsp\;and IMPROVED\, dedicated theater space in Anoka!!!</strong></span></p>\n\n<p style="text-align:center"><span style="font-size:14px"><strong>(<span style="font-family:arial\,helvetica\,sans-serif">1138 Bunker Lake Blvd Anoka\, MN 55303)</span></strong></span></p>\n
LOCATION:1138 Bunker Lake Blvd.\, Anoka
UID:e.380.191169
SEQUENCE:3
DTSTAMP:20260419T193204Z
URL:http://members.metronorthchamber.org/events/details/theater-auditions-191169
END:VEVENT

END:VCALENDAR
