BEGIN:VCALENDAR
VERSION:2.0
PRODID:-//ChamberMaster//Event Calendar 2.0//EN
METHOD:PUBLISH
X-PUBLISHED-TTL:P3D
REFRESH-INTERVAL:P3D
CALSCALE:GREGORIAN
BEGIN:VEVENT
DTSTART:20120818T200000Z
DTEND:20120819T070000Z
X-MICROSOFT-CDO-ALLDAYEVENT:FALSE
SUMMARY:The Well Sports Tavern & Grill Anniversary Party
DESCRIPTION:Come join us for our 7 year Anniversary Party\, Saturday\, August 18th from 3:00pm - close!\n\n\n\nThere will be FREE Beer\, Pulled Smoked Pork Sandwiches with all the fixings\, band and an LOD Bean Bag Tourney!\n\n\n\nOnly $10 for the food and band per person\, and $5 per person to enter the Bean Bag Tournament.\n\n\n\nFood and beer will start at 3:00\, the tournament begins at 5:00\, and the band begins playing at 7:00!\n\n\n\n**Free Beer is included with the purchase of food**
X-ALT-DESC;FMTTYPE=text/html:<span style="font-size:11px\;"><span style="font-family: tahoma\;">Come join us for our 7 year Anniversary Party\, Saturday\, August 18th from 3:00pm - close!<br>\n<br>\nThere will be FREE Beer\, Pulled Smoked Pork Sandwiches with all the fixings\, band and an LOD Bean Bag Tourney!<br>\n<br>\nOnly $10 for the food and band per person\, and $5 per person to enter the Bean Bag Tournament.<br>\n<br>\nFood and beer will start at 3:00\, the tournament begins at 5:00\, and the band begins playing at 7:00!<br>\n<br>\n**Free Beer is included with the purchase of food**</span></span><br>\n
LOCATION:The Well Sports Tavern & Grill 35 Coon Rapids Boulevard NW Coon Rapids\, MN 55448
UID:e.380.146171
SEQUENCE:3
DTSTAMP:20260425T125851Z
URL:http://members.metronorthchamber.org/events/details/the-well-sports-tavern-grill-anniversary-party-08-18-2012-146171
END:VEVENT

END:VCALENDAR
