BEGIN:VCALENDAR
VERSION:2.0
PRODID:-//ChamberMaster//Event Calendar 2.0//EN
METHOD:PUBLISH
X-PUBLISHED-TTL:P3D
REFRESH-INTERVAL:P3D
CALSCALE:GREGORIAN
BEGIN:VEVENT
DTSTART:20160301T223000Z
DTEND:20160302T020000Z
X-MICROSOFT-CDO-ALLDAYEVENT:FALSE
SUMMARY:The Taste
DESCRIPTION:Treat your taste buds during Cars for Neighbors 11th annual "Taste" event! It will take place on Tuesday\, March 1st at the National Sports Center from 4:30-8pm and will feature food from local restaurants\, libations\, live entertainment with Neil Freeman of BOB FM\, wine wall/raffles & more!\n\n\n\nAll proceeds will go to support neighbors in need of car repair services. Your contribution is 100% tax deductible/nonrefundable.\n\n\n\nEmployers want to know that their employees can get to work on time\; without a working vehicle they may not be considered for a promotion or could lose their job. And\, those with children want to be sure their young ones are able to participate in special activities. The list goes on. For every $10\,000 raised we can impact the lives of 60 individuals\; men\, women\, AND children. Many of us take having a vehicle for granted but it can make all the difference. Please help us drive change for Anoka County neighbors in need!
X-ALT-DESC;FMTTYPE=text/html:<span style="color:rgb(20\, 24\, 35)\; font-family:helvetica\,arial\,sans-serif\; font-size:14px">Treat your taste buds during Cars for Neighbors 11th annual &quot\;Taste&quot\; event! It will take place on Tuesday\, March 1st at the National Sports Center from 4:30-8pm and will feature food from local restaurants\, libations\, live entertainment with Neil Freeman of BOB FM\, wine wall/raffles &amp\; more!</span><br />\n<br />\n<span style="color:rgb(20\, 24\, 35)\; font-family:helvetica\,arial\,sans-serif\; font-size:14px">All proceeds will go to support neighbors in need of car repair services. Your contribution is 100% tax deductible/nonrefundable.</span><br />\n<br />\n<span style="color:rgb(20\, 24\, 35)\; font-family:helvetica\,arial\,sans-serif\; font-size:14px">Employers want to know that their employees can get to work on time\; without a working vehicle they may not be considered for a promotion or could lose their job. And\, those with children want to be sure their young ones are able to participate in special activities. The list goes on. For every $10\,000 raised we can impact the lives of 60 individuals\; men\, women\, AND children. Many of us take having a vehicle for granted but it can make all the difference. Please help us drive change for Anoka County neighbors in need!</span>
LOCATION:National Sports Center 1700 105th Ave NE\, Blaine
UID:e.380.163790
SEQUENCE:3
DTSTAMP:20260422T163253Z
URL:http://members.metronorthchamber.org/events/details/the-taste-03-01-2016-163790
END:VEVENT

END:VCALENDAR
