BEGIN:VCALENDAR
VERSION:2.0
PRODID:-//ChamberMaster//Event Calendar 2.0//EN
METHOD:PUBLISH
X-PUBLISHED-TTL:P3D
REFRESH-INTERVAL:P3D
CALSCALE:GREGORIAN
BEGIN:VEVENT
DTSTART:20131106T180000Z
DTEND:20131106T190000Z
X-MICROSOFT-CDO-ALLDAYEVENT:FALSE
SUMMARY:The Power Within Lunch & Learn
DESCRIPTION:Feel like you have hit a wall? Whether you are just beginning your journey toward healthy living or hit some roadblocks along the way\, Coach Marisa will have practical steps to help you.  Join us for a healthy lunch and FREE coaching from Marisa Reyes at Moe's Restaurant in Mounds View\, MN.
X-ALT-DESC;FMTTYPE=text/html:<span style="color: rgb(65\, 65\, 65)\; line-height: 1.6\; font-family: Arial\, Helvetica\, sans-serif\; font-size: medium\; font-weight: normal\;">Feel like you have hit a wall? Whether you are just beginning your journey toward healthy living or hit some roadblocks along the way\, Coach Marisa will have practical steps to help you.&nbsp\; Join us for a healthy lunch and FREE coaching from Marisa Reyes&nbsp\;at Moe&#39\;s Restaurant in Mounds View\, MN.</span>
LOCATION:Moe's Restaurant 2400 Highway 10 Mounds View\, MN 55112
UID:e.380.149859
SEQUENCE:3
DTSTAMP:20260424T124317Z
URL:http://members.metronorthchamber.org/events/details/the-power-within-lunch-learn-11-06-2013-149859
END:VEVENT

END:VCALENDAR
