BEGIN:VCALENDAR
VERSION:2.0
PRODID:-//ChamberMaster//Event Calendar 2.0//EN
METHOD:PUBLISH
X-PUBLISHED-TTL:P3D
REFRESH-INTERVAL:P3D
CALSCALE:GREGORIAN
BEGIN:VEVENT
DTSTART:20140305T180000Z
DTEND:20140305T190000Z
X-MICROSOFT-CDO-ALLDAYEVENT:FALSE
SUMMARY:The Power Within: Lunch & Learn
DESCRIPTION:Join us for this free\, interactive seminar. Bring your healthstyle questions and your appetite!  Whether you are just beginning your journey toward healthy living or have hit some roadblocks along the way\, Coach Marisa will have practical steps to help you.  You can order lunch from the menu or bring your own.  They have lots of healthy choices and even sweet potato fries!  I look forward to seeing you there at Moe's Restaurant in Mounds View\, MN.
X-ALT-DESC;FMTTYPE=text/html:<br />\n<span style="font-size:14px\;"><span style="color: rgb(68\, 68\, 68)\; line-height: 18px\;">Join us for this free\, interactive seminar. Bring your healthstyle questions and your appetite! &nbsp\;Wh</span><span style="color: rgb(65\, 65\, 65)\; line-height: 22.399999618530273px\;">ether you are just beginning your journey toward healthy living or have hit some roadblocks along the way\, Coach Marisa will have practical steps to help you. </span><span style="color: rgb(65\, 65\, 65)\; line-height: 22.399999618530273px\;">&nbsp\;</span><span style="color: rgb(68\, 68\, 68)\; font-family: Helvetica\; line-height: 18px\;">You can order lunch from the menu or bring your own.&nbsp\; They have lots of healthy choices and even sweet potato fries! &nbsp\;I look forward to seeing you there&nbsp\;</span><span style="color: rgb(65\, 65\, 65)\; line-height: 22.399999618530273px\;">at Moe&#39\;s Restaurant in Mounds View\, MN.</span></span>
LOCATION:Moe's Restaurant: 2400 Highway 10 Mounds View\, MN 55112
UID:e.380.150335
SEQUENCE:3
DTSTAMP:20260424T075304Z
URL:http://members.metronorthchamber.org/events/details/the-power-within-lunch-learn-03-05-2014-150335
END:VEVENT

END:VCALENDAR
