BEGIN:VCALENDAR
VERSION:2.0
PRODID:-//ChamberMaster//Event Calendar 2.0//EN
METHOD:PUBLISH
X-PUBLISHED-TTL:P3D
REFRESH-INTERVAL:P3D
CALSCALE:GREGORIAN
BEGIN:VEVENT
DTSTART:20120417T223000Z
DTEND:20120418T020000Z
X-MICROSOFT-CDO-ALLDAYEVENT:FALSE
SUMMARY:The Power of U.S. Manufacturing
DESCRIPTION:Anoka Technical College Foundation Presents the Power of U.S. Manufacturing\n\n\n\nTuesday\, April 17\, 2012\n\n5:30 P.M. Social/Networking\n\n6:30 P.M. Dinner\n\nNorthland Inn\, Brooklyn Park\n\n \n\nAnoka Technical College Foundation will be hosting dinner and discussion on the Power of U.S. Manufacturing  Tuesday\, April 17\, at the Northland Inn\, Brooklyn Park.   MarkDeYoung\, CEO\, Alliant Techsystems (ATK)\; Scott Anderson\, Sr. Economic\, Wells Fargo Securities\; Michael Langley\, CEO\, Greater Minneapolis Saint Paul Regional Economic Development Partnership\; and Michael Dougherty\, Vice Chancellor\, Minnesota State Colleges and Universities system will address current trends in U. S. manufacturing\, the economic climate\, and how Minnesota State Colleges & Universities are striving to close the knowledge gap. \n\n \n\nTicket price is $75 and proceeds will benefit the students and academic programs at Anoka Technical College.  Contact Cheryl Kish at (763) 576-4755 to purchase tickets or to get additional information.
X-ALT-DESC;FMTTYPE=text/html:<br />\n<span style="font-size:11px\;"><span style="font-family: tahoma\;"><strong>Anoka Technical College Foundation Presents the Power of U.S. Manufacturing</strong><br />\n<br />\n<strong>Tuesday\, April 17\, 2012</strong><br />\n<strong>5:30 P.M. Social/Networking</strong><br />\n<strong>6:30 P.M. Dinner</strong><br />\n<strong>Northland Inn\, Brooklyn Park</strong><br />\n&nbsp\;<br />\nAnoka Technical College Foundation will be hosting dinner and discussion on the Power of U.S. Manufacturing&nbsp\; Tuesday\, April 17\, at the Northland Inn\, Brooklyn Park.&nbsp\;&nbsp\; MarkDeYoung\, CEO\, Alliant Techsystems (ATK)\; Scott Anderson\, Sr. Economic\, Wells Fargo Securities\; Michael Langley\, CEO\, Greater Minneapolis Saint Paul Regional Economic Development Partnership\; and Michael Dougherty\, Vice Chancellor\, Minnesota State Colleges and Universities system will address current trends in U. S. manufacturing\, the economic climate\, and how Minnesota State Colleges &amp\; Universities are striving to close the knowledge gap.&nbsp\;<br />\n&nbsp\;<br />\nTicket price is $75 and proceeds will benefit the students and academic programs at Anoka Technical College.&nbsp\; Contact Cheryl Kish at (763) 576-4755 to purchase tickets or to get additional information.</span></span><br />\n<br />\n
LOCATION:Northland Inn\, Brooklyn Park
UID:e.380.143500
SEQUENCE:3
DTSTAMP:20260425T192740Z
URL:http://members.metronorthchamber.org/events/details/the-power-of-u-s-manufacturing-04-17-2012-143500
END:VEVENT

END:VCALENDAR
