BEGIN:VCALENDAR
VERSION:2.0
PRODID:-//ChamberMaster//Event Calendar 2.0//EN
METHOD:PUBLISH
X-PUBLISHED-TTL:P3D
REFRESH-INTERVAL:P3D
CALSCALE:GREGORIAN
BEGIN:VEVENT
DTSTART:20120829T123000Z
DTEND:20120829T150000Z
X-MICROSOFT-CDO-ALLDAYEVENT:FALSE
SUMMARY:The Power of Effective Marketing
DESCRIPTION:Does your prospect clearly understand how you can assist them?\n\n\n\nImagine having a clear definition of your ideal client with the activities and timelines for communication. Marketing campaigns can be very simple or very extravagant. By implementing a consistent marketing campaign you will bring balance to the highs and lows.\n\n\n\nWhile it is true that the economy is going to fluctuate and that things are going to happen which will make business difficult\, but that is not surprising\, is it? There are businesses thriving at the moment\, so what are they doing that others aren't? It is at times like this that the proactive businesses are going to stand out from the norm.\n\n\n\n\n\n  Understand the Who\, Where\, What\, Why and How's of Marketing \n\n  Turn your marketing into a guaranteed investment \n\n  The effectiveness of understanding key personality traits \n\n  How to leverage your time to maximize efficiency and profits \n\n  The 5 Ways to Massive Profits that only successful entrepreneurs know AND MUCH MORE.
X-ALT-DESC;FMTTYPE=text/html:Does your prospect clearly understand how you can assist them?<br />\n<br />\nImagine having a clear definition of your ideal client with the activities and timelines for communication. Marketing campaigns can be very simple or very extravagant. By implementing a consistent marketing campaign you will bring balance to the highs and lows.<br />\n<br />\nWhile it is true that the economy is going to fluctuate and that things are going to happen which will make business difficult\, but that is not surprising\, is it? There are businesses thriving at the moment\, so what are they doing that others aren&rsquo\;t? It is at times like this that the proactive businesses are going to stand out from the norm.<br />\n<br />\n<br />\n&bull\; Understand the Who\, Where\, What\, Why and How&rsquo\;s of Marketing&hellip\;<br />\n&bull\; Turn your marketing into a guaranteed investment&hellip\;<br />\n&bull\; The effectiveness of understanding key personality traits&hellip\;<br />\n&bull\; How to leverage your time to maximize efficiency and profits&hellip\;<br />\n&bull\; The 5 Ways to Massive Profits that only successful entrepreneurs know&hellip\;AND MUCH MORE.<br />\n&nbsp\;
LOCATION:ActionCOACH MetroNorth Offices 6575 141st Avenue NW\, Ste 100 Ramsey\, MN 55303
UID:e.380.146194
SEQUENCE:3
DTSTAMP:20260425T125704Z
URL:http://members.metronorthchamber.org/events/details/the-power-of-effective-marketing-08-29-2012-146194
END:VEVENT

END:VCALENDAR
