BEGIN:VCALENDAR
VERSION:2.0
PRODID:-//ChamberMaster//Event Calendar 2.0//EN
METHOD:PUBLISH
X-PUBLISHED-TTL:P3D
REFRESH-INTERVAL:P3D
CALSCALE:GREGORIAN
BEGIN:VEVENT
DTSTART:20151111T210000Z
DTEND:20151111T220000Z
X-MICROSOFT-CDO-ALLDAYEVENT:FALSE
SUMMARY:The Positive Pathways of Hospice
DESCRIPTION:Please join us for discussion and education on how Hospice may benefit you and your loved-one.\n\nWhat is Hospice?\n\nThe benefits of an early referral\n\nWhen is the right time?\n\nBenefits of patient/family centered care\n\nInsurance coverage and more!
X-ALT-DESC;FMTTYPE=text/html:Please join us for discussion and education on how Hospice may benefit you and your loved-one.<br />\nWhat is Hospice?<br />\nThe benefits of an early referral<br />\nWhen is the right time?<br />\nBenefits of patient/family centered care<br />\nInsurance coverage and more!
LOCATION:Autumn Glen Senior Living
UID:e.380.159790
SEQUENCE:3
DTSTAMP:20260422T222105Z
URL:http://members.metronorthchamber.org/events/details/the-positive-pathways-of-hospice-11-11-2015-159790
END:VEVENT

END:VCALENDAR
