BEGIN:VCALENDAR
VERSION:2.0
PRODID:-//ChamberMaster//Event Calendar 2.0//EN
METHOD:PUBLISH
X-PUBLISHED-TTL:P3D
REFRESH-INTERVAL:P3D
CALSCALE:GREGORIAN
BEGIN:VEVENT
DTSTART:20170727T160000Z
DTEND:20170727T220000Z
X-MICROSOFT-CDO-ALLDAYEVENT:FALSE
SUMMARY:The Mermaid's Christmas in July
DESCRIPTION:Please join us for our Holiday Preview Party and enjoy food\, drinks and fun! This is a free party to showcase what is in store for your next corporate party!
X-ALT-DESC;FMTTYPE=text/html:Please join us for our Holiday Preview Party and enjoy food\, drinks and fun! This is a free party to showcase what is in store for your next corporate party!
LOCATION:The Mermaid 2200 Mounds View Boulevard Mounds View\, MN 55112
UID:e.380.176379
SEQUENCE:3
DTSTAMP:20260421T121901Z
URL:http://members.metronorthchamber.org/events/details/the-mermaid-s-christmas-in-july-176379
END:VEVENT

END:VCALENDAR
