BEGIN:VCALENDAR
VERSION:2.0
PRODID:-//ChamberMaster//Event Calendar 2.0//EN
METHOD:PUBLISH
X-PUBLISHED-TTL:P3D
REFRESH-INTERVAL:P3D
CALSCALE:GREGORIAN
BEGIN:VEVENT
DTSTART:20180815T203000Z
DTEND:20180815T233000Z
X-MICROSOFT-CDO-ALLDAYEVENT:FALSE
SUMMARY:The Mermaid Holiday Showcase
DESCRIPTION:Let us help create your event.\n\nPlease join us for food\, drinks\, & fun!\n\nTours throughout the day.
X-ALT-DESC;FMTTYPE=text/html:Let us help create your event.<br />\nPlease join us for food\, drinks\, &amp\; fun!<br />\nTours throughout the day.
LOCATION:The Mermaid 2200 Mounds View Blvd Mounds View\, MN 55112
UID:e.380.185800
SEQUENCE:3
DTSTAMP:20260420T182811Z
URL:http://members.metronorthchamber.org/events/details/the-mermaid-holiday-showcase-185800
END:VEVENT

END:VCALENDAR
