BEGIN:VCALENDAR
VERSION:2.0
PRODID:-//ChamberMaster//Event Calendar 2.0//EN
METHOD:PUBLISH
X-PUBLISHED-TTL:P3D
REFRESH-INTERVAL:P3D
CALSCALE:GREGORIAN
BEGIN:VEVENT
DTSTART:20180526T013000Z
DTEND:20180526T030000Z
X-MICROSOFT-CDO-ALLDAYEVENT:FALSE
SUMMARY:The Lion King - Movie in the Park
DESCRIPTION:Movie in the Park - The Lion King\n\n\nFriday\, May 25\, 2018\nJoin us for annual movies in the park at Sand Creek Park\, 1008 Northdale Blvd. Enjoy the movie for free\, concessions available for purchase. Concession stand opens one hour before the movie   so come early\, find your spot and enjoy the park play areas. Sponsored by the Coon Rapids Community Strength Foundation
X-ALT-DESC;FMTTYPE=text/html:<h2 id="ctl00_ctl00_MainContent_ModuleContent_ctl00_ctl03_eventTitle" style="box-sizing: content-box\; margin: 0px 0px 3px\; padding: 0px 50px 0px 0px\; border: 0px\; outline: 0px\; font-size: 15pt\; font-family: inherit\; vertical-align: baseline\;"><span itemprop="name" style="box-sizing: content-box\; margin: 0px\; padding: 0px\; border: 0px\; font-size: 14.4px\; font-family: Arial\; vertical-align: baseline\; outline: 0px\; color: rgb(51\, 51\, 51)\; background-color: rgb(255\, 255\, 255)\;">Movie in the Park - The Lion King</span></h2>\n\n<div class="detailDateDesc" style="box-sizing: content-box\; margin: 0px\; padding: 0px 0px 0px 60px\; border: 0px\; outline: 0px\; font-size: 14.4px\; font-family: Arial\; vertical-align: baseline\; background: url(&quot\;/common/images/Calendar/CalendarModuleIconSmall.png&quot\;) 0px 5px no-repeat rgb(255\, 255\, 255)\; min-height: 55px\; color: rgb(51\, 51\, 51)\;">\n<h3 id="ctl00_ctl00_MainContent_ModuleContent_ctl00_ctl03_eventDate" style="box-sizing: content-box\; margin: 0px\; padding: 0px\; border: 0px\; outline: 0px\; font-size: 1em\; font-family: inherit\; vertical-align: baseline\; color: rgb(51\, 43\, 39)\;">Friday\, May 25\, 2018</h3>\nJoin us for annual movies in the park at Sand Creek Park\, 1008 Northdale Blvd. Enjoy the movie for free\, concessions available for purchase. Concession stand opens one hour before the movie &ndash\; so come early\, find your spot and enjoy the park play areas. Sponsored by the Coon Rapids Community Strength Foundation</div>\n
LOCATION:Sand Creek Park 1008 Northdale Blvd.
UID:e.380.184874
SEQUENCE:3
DTSTAMP:20260420T231430Z
URL:http://members.metronorthchamber.org/events/details/the-lion-king-movie-in-the-park-184874
END:VEVENT

END:VCALENDAR
