BEGIN:VCALENDAR
VERSION:2.0
PRODID:-//ChamberMaster//Event Calendar 2.0//EN
METHOD:PUBLISH
X-PUBLISHED-TTL:P3D
REFRESH-INTERVAL:P3D
CALSCALE:GREGORIAN
BEGIN:VEVENT
DTSTART:20180328T160000Z
DTEND:20180328T180000Z
X-MICROSOFT-CDO-ALLDAYEVENT:FALSE
SUMMARY:The Legends of Spring Lake Park - Senior Living
DESCRIPTION:You're invited to learn about The Legends at Spring Lake Park\, the BRAND-NEW active senior community opening in late 2018. \n\nMeet the Legends team in person\, explore floor plans\, review the income qualifications and have all your questions answered!\n\n \n\nThe Legends of Spring Lake Park participates in a Low Income Housing Tax Credit (LIHTC) program. Total household income must be UNDER the following limits based on household size: 1 Occupant: $37\,980 | 2 Occupants: $43\,440 | 3 Occupants: $48\,840 | 4 Occupants: $54\,240.
X-ALT-DESC;FMTTYPE=text/html:<p style="box-sizing: inherit\; margin: 0px\; padding: 0px\; border: 0px\; outline: 0px\; font-size: 16px\; vertical-align: baseline\; background: 0px 0px rgb(255\, 255\, 255)\; font-family: -apple-system\, system-ui\, BlinkMacSystemFont\, &quot\;Segoe UI&quot\;\, Roboto\, &quot\;Helvetica Neue&quot\;\, &quot\;Fira Sans&quot\;\, Ubuntu\, Oxygen\, &quot\;Oxygen Sans&quot\;\, Cantarell\, &quot\;Droid Sans&quot\;\, &quot\;Lucida Grande&quot\;\, Helvetica\, Arial\, sans-serif\, &quot\;Apple Color Emoji&quot\;\, &quot\;Segoe UI Emoji&quot\;\, &quot\;Segoe UI Emoji&quot\;\, &quot\;Segoe UI Symbol&quot\;\, &quot\;Hiragino Kaku Gothic Pro&quot\;\, Meiryo\, &quot\;Hiragino Sans GB W3&quot\;\, &quot\;Noto Naskh Arabic&quot\;\, &quot\;Droid Arabic Naskh&quot\;\, &quot\;Geeza Pro&quot\;\, &quot\;Simplified Arabic&quot\;\, &quot\;Noto Sans Thai&quot\;\, Thonburi\, Dokchampa\, &quot\;Droid Sans Thai&quot\;\, &quot\;Droid Sans Fallback&quot\;\, &quot\;.SFNSDisplay-Regular&quot\;\, &quot\;Heiti SC&quot\;\, &quot\;Microsoft Yahei&quot\;\; color: rgba(0\, 0\, 0\, 0.9)\; line-height: 24px\;">You&#39\;re invited to learn about The Legends at Spring Lake Park\, the BRAND-NEW active senior community opening in late 2018.&nbsp\;</p>\n\n<p style="box-sizing: inherit\; margin: 0px\; padding: 0px\; border: 0px\; outline: 0px\; font-size: 16px\; vertical-align: baseline\; background: 0px 0px rgb(255\, 255\, 255)\; font-family: -apple-system\, system-ui\, BlinkMacSystemFont\, &quot\;Segoe UI&quot\;\, Roboto\, &quot\;Helvetica Neue&quot\;\, &quot\;Fira Sans&quot\;\, Ubuntu\, Oxygen\, &quot\;Oxygen Sans&quot\;\, Cantarell\, &quot\;Droid Sans&quot\;\, &quot\;Lucida Grande&quot\;\, Helvetica\, Arial\, sans-serif\, &quot\;Apple Color Emoji&quot\;\, &quot\;Segoe UI Emoji&quot\;\, &quot\;Segoe UI Emoji&quot\;\, &quot\;Segoe UI Symbol&quot\;\, &quot\;Hiragino Kaku Gothic Pro&quot\;\, Meiryo\, &quot\;Hiragino Sans GB W3&quot\;\, &quot\;Noto Naskh Arabic&quot\;\, &quot\;Droid Arabic Naskh&quot\;\, &quot\;Geeza Pro&quot\;\, &quot\;Simplified Arabic&quot\;\, &quot\;Noto Sans Thai&quot\;\, Thonburi\, Dokchampa\, &quot\;Droid Sans Thai&quot\;\, &quot\;Droid Sans Fallback&quot\;\, &quot\;.SFNSDisplay-Regular&quot\;\, &quot\;Heiti SC&quot\;\, &quot\;Microsoft Yahei&quot\;\; color: rgba(0\, 0\, 0\, 0.9)\; line-height: 24px\;">Meet the Legends team in person\, explore floor plans\, review the income qualifications and have all your questions answered!</p>\n\n<p style="box-sizing: inherit\; margin: 0px\; padding: 0px\; border: 0px\; outline: 0px\; font-size: 16px\; vertical-align: baseline\; background: 0px 0px rgb(255\, 255\, 255)\; font-family: -apple-system\, system-ui\, BlinkMacSystemFont\, &quot\;Segoe UI&quot\;\, Roboto\, &quot\;Helvetica Neue&quot\;\, &quot\;Fira Sans&quot\;\, Ubuntu\, Oxygen\, &quot\;Oxygen Sans&quot\;\, Cantarell\, &quot\;Droid Sans&quot\;\, &quot\;Lucida Grande&quot\;\, Helvetica\, Arial\, sans-serif\, &quot\;Apple Color Emoji&quot\;\, &quot\;Segoe UI Emoji&quot\;\, &quot\;Segoe UI Emoji&quot\;\, &quot\;Segoe UI Symbol&quot\;\, &quot\;Hiragino Kaku Gothic Pro&quot\;\, Meiryo\, &quot\;Hiragino Sans GB W3&quot\;\, &quot\;Noto Naskh Arabic&quot\;\, &quot\;Droid Arabic Naskh&quot\;\, &quot\;Geeza Pro&quot\;\, &quot\;Simplified Arabic&quot\;\, &quot\;Noto Sans Thai&quot\;\, Thonburi\, Dokchampa\, &quot\;Droid Sans Thai&quot\;\, &quot\;Droid Sans Fallback&quot\;\, &quot\;.SFNSDisplay-Regular&quot\;\, &quot\;Heiti SC&quot\;\, &quot\;Microsoft Yahei&quot\;\; color: rgba(0\, 0\, 0\, 0.9)\; line-height: 24px\;">&nbsp\;</p>\n\n<p style="box-sizing: inherit\; margin: 0px\; padding: 0px\; border: 0px\; outline: 0px\; font-size: 16px\; vertical-align: baseline\; background: 0px 0px rgb(255\, 255\, 255)\; font-family: -apple-system\, system-ui\, BlinkMacSystemFont\, &quot\;Segoe UI&quot\;\, Roboto\, &quot\;Helvetica Neue&quot\;\, &quot\;Fira Sans&quot\;\, Ubuntu\, Oxygen\, &quot\;Oxygen Sans&quot\;\, Cantarell\, &quot\;Droid Sans&quot\;\, &quot\;Lucida Grande&quot\;\, Helvetica\, Arial\, sans-serif\, &quot\;Apple Color Emoji&quot\;\, &quot\;Segoe UI Emoji&quot\;\, &quot\;Segoe UI Emoji&quot\;\, &quot\;Segoe UI Symbol&quot\;\, &quot\;Hiragino Kaku Gothic Pro&quot\;\, Meiryo\, &quot\;Hiragino Sans GB W3&quot\;\, &quot\;Noto Naskh Arabic&quot\;\, &quot\;Droid Arabic Naskh&quot\;\, &quot\;Geeza Pro&quot\;\, &quot\;Simplified Arabic&quot\;\, &quot\;Noto Sans Thai&quot\;\, Thonburi\, Dokchampa\, &quot\;Droid Sans Thai&quot\;\, &quot\;Droid Sans Fallback&quot\;\, &quot\;.SFNSDisplay-Regular&quot\;\, &quot\;Heiti SC&quot\;\, &quot\;Microsoft Yahei&quot\;\; color: rgba(0\, 0\, 0\, 0.9)\; line-height: 24px\;">The Legends of Spring Lake Park participates in a Low Income Housing Tax Credit (LIHTC) program. Total household income must be UNDER the following limits based on household size: 1 Occupant: $37\,980 | 2 Occupants: $43\,440 | 3 Occupants: $48\,840 | 4 Occupants: $54\,240.</p>\n
LOCATION:LOCATION: Spring Lake Park City Hall 1301 81st Avenue\, NE.\, Spring Lake Park\, MN 55432
UID:e.380.182600
SEQUENCE:3
DTSTAMP:20260421T003647Z
URL:http://members.metronorthchamber.org/events/details/the-legends-of-spring-lake-park-senior-living-182600
END:VEVENT

END:VCALENDAR
