BEGIN:VCALENDAR
VERSION:2.0
PRODID:-//ChamberMaster//Event Calendar 2.0//EN
METHOD:PUBLISH
X-PUBLISHED-TTL:P3D
REFRESH-INTERVAL:P3D
CALSCALE:GREGORIAN
BEGIN:VEVENT
DTSTART:20120512T160000Z
DTEND:20120512T210000Z
X-MICROSOFT-CDO-ALLDAYEVENT:FALSE
SUMMARY:The Irresistible Wedding Event
DESCRIPTION:It is the most important day of your life! Prepare for it with class and style at S.K.i.N. Medical Spa's Irresistible Wedding Event! Meet with product representatives and our knowledgeable\, courteous staff to plan out your wedding skincare regime. Don't miss out! We will have refreshments\, prizes and live demonstrations. So pack up the bridal party or make this a bonding event for the bride\, her mother and the mother of the groom! Bring the groom and receive a special gift just for him! \n\n		\n\n		Irresistible Wedding Event Special Offers!\n	\n		  \n	\n		\n			$9.99 a unit Botox\n	\n	\n		 \n	\n		\n			Save $50 on ANY chemical peel\n		\n			Save $100 on ANY laser package \n		\n			Save 15% on ALL products! \n\n			 Offers not valid with other offers or promotions. \n		Click here to edit...
X-ALT-DESC;FMTTYPE=text/html:<div style="color: gray">\n	<p style="line-height: 115%\; margin: 0in 0in 0pt">\n		<span style="font-family: 'Goudy Old Style'\, 'serif'\; color: black">It is the most important day of your life! Prepare for it with class and style at <b>S.K.i.N. Medical Spa&#39\;s Irresistible Wedding Event</b>! Meet with product representatives and our knowledgeable\, courteous staff to plan out your wedding skincare regime. Don&#39\;t miss out! We will have refreshments\, prizes and live demonstrations. So pack up the bridal party or make this a bonding event for the bride\, her mother and the mother of the groom! Bring the groom and receive a <u>special gift just for him</u>!&nbsp\;<br />\n		<br />\n		<strong><span style="color: #a56220"><span style="font-family: georgia\, serif">Irresistible Wedding Event Special Offers!</span></span></strong></span></p>\n	<p style="line-height: 115%\; margin: 0in 0in 0pt">\n		<span style="font-family: 'Goudy Old Style'\, 'serif'\; color: black">&nbsp\; </span></p>\n	<ul>\n		<li style="color: black">\n			<span style="font-family: 'Goudy Old Style'\, 'serif'\; color: black"><span style="font-family: goudy old style\, serif">$9.99 a unit Botox</span></span></li>\n	</ul>\n	<p style="line-height: 115%\; margin: 0in 0in 0pt">\n		&nbsp\;</p>\n	<ul>\n		<li style="color: black">\n			<span style="font-family: 'Goudy Old Style'\, 'serif'\; color: black"><span style="font-family: goudy old style\, serif">Save $50&nbsp\;on ANY chemical peel</span></span></li>\n		<li style="color: black">\n			<span style="font-family: 'Goudy Old Style'\, 'serif'\; color: black"><span style="font-family: goudy old style\, serif">Save $100&nbsp\;on ANY laser package </span></span></li>\n		<li style="color: black">\n			<span style="font-family: 'Goudy Old Style'\, 'serif'\; color: black"><span style="font-family: goudy old style\, serif">Save 15%&nbsp\;on ALL products!&nbsp\;<br />\n			&nbsp\;<em>Offers not valid with other offers or promotions.&nbsp\;</em></span></span></li>\n		Click here to edit...\n	</ul>\n</div>\n
LOCATION:S.K.i.N. Medical Spa - 10190 Baltimore St Ne Suite 200 Blaine\, MN 55449 Click here to edit...
UID:e.380.143808
SEQUENCE:3
DTSTAMP:20260425T192601Z
URL:http://members.metronorthchamber.org/events/details/the-irresistible-wedding-event-05-12-2012-143808
END:VEVENT

END:VCALENDAR
