BEGIN:VCALENDAR
VERSION:2.0
PRODID:-//ChamberMaster//Event Calendar 2.0//EN
METHOD:PUBLISH
X-PUBLISHED-TTL:P3D
REFRESH-INTERVAL:P3D
CALSCALE:GREGORIAN
BEGIN:VEVENT
DTSTART;VALUE=DATE:20181123
DTEND;VALUE=DATE:20181124
TRANSP:TRANSPARENT
X-MICROSOFT-CDO-ALLDAYEVENT:TRUE
SUMMARY:The healthy Boulevard Pancake Breakfast
DESCRIPTION:Come join us by the fire for a delicious pancake breakfast and your choice of many hot drinks to keep you warm and toasty after shopping!!!
X-ALT-DESC;FMTTYPE=text/html:<span style="color: rgb(29\, 33\, 41)\; font-family: Helvetica\, Arial\, sans-serif\; font-size: 14px\; background-color: rgb(255\, 255\, 255)\;">Come join us by the fire for a delicious pancake breakfast and your choice of many hot drinks to keep you warm and toasty after shopping!!!</span>
LOCATION:The Healthy Boulevard 12475 Riverdale Blvd Suite F\, Coon Rapids\, MN 55433
UID:e.380.187462
SEQUENCE:3
DTSTAMP:20260420T134403Z
URL:http://members.metronorthchamber.org/events/details/the-healthy-boulevard-pancake-breakfast-187462
END:VEVENT

END:VCALENDAR
