BEGIN:VCALENDAR
VERSION:2.0
PRODID:-//ChamberMaster//Event Calendar 2.0//EN
METHOD:PUBLISH
X-PUBLISHED-TTL:P3D
REFRESH-INTERVAL:P3D
CALSCALE:GREGORIAN
BEGIN:VEVENT
DTSTART:20180505T010000Z
DTEND:20180505T040000Z
X-MICROSOFT-CDO-ALLDAYEVENT:FALSE
SUMMARY:The Darkest Night Of Your Life 4K
DESCRIPTION:On any given night\, there are more than 6\,000 homeless youth in the State of Minnesota and many of them are right here in the north metro suburbs. When the darkness of night sets in\, these young people are staying in shelters\, couch-hopping or sleeping on the streets. HOPE 4 Youth\, a nonprofit that provides pathways to end youth homelessness\, is raising funds and awareness of the plight of homeless youth by bringing the community together for the third annual "The Darkest Night of Your Life 4K."\n\nParticipants will experience many of the same things as homeless young people   darkness\, loneliness\, cold and quiet   while they walk/run the 4K "4" homeless youth\, as well as raise funds for HOPE Place\, HOPE 4 Youth's transitional housing program located in Coon Rapids. HOPE Place is one of our long-term solutions to ending youth homelessness and we need your help to keep the doors open so that the young people who call HOPE Place home can walk out the doors as independent\, self-sustaining and housed adults.
X-ALT-DESC;FMTTYPE=text/html:<p><span style="font-size:12px">On any given night\, there are more than 6\,000 homeless youth in the State of Minnesota and many of them are right here in the north metro suburbs. When the darkness of night sets in\, these young people are staying in shelters\, couch-hopping or sleeping on the streets.&nbsp\;<a href="http://www.hope4youthmn.org/" rel="noopener noreferrer" style="color: rgb(120\, 116\, 115)\; text-decoration: none\; background-color: transparent\; -webkit-text-decoration-skip: objects\;" target="_blank">HOPE 4 Youth</a>\, a nonprofit that provides pathways to end youth homelessness\, is raising funds&nbsp\;and awareness of the plight of homeless&nbsp\;youth by bringing the community together for the third annual &ldquo\;The Darkest Night of Your Life 4K.&rdquo\;</span></p>\n\n<p><span style="font-size:12px">Participants will&nbsp\;experience many of the same things as homeless young people &ndash\; darkness\, loneliness\, cold and quiet &ndash\; while they walk/run&nbsp\;the 4K &ldquo\;4&rdquo\; homeless youth\, as well as raise funds for&nbsp\;HOPE Place\, HOPE 4 Youth&rsquo\;s transitional housing program located in Coon Rapids. HOPE Place is one of our long-term solutions to ending youth homelessness and we need your help to keep the doors open so that the young people who call HOPE Place home can walk out the doors as independent\, self-sustaining and housed adults.</span></p>\n
LOCATION:Bunker Hills Golf Club 12800 Bunker Prairie Rd NW Coon Rapids\, MN 55448
UID:e.380.184783
SEQUENCE:3
DTSTAMP:20260420T213419Z
URL:http://members.metronorthchamber.org/events/details/the-darkest-night-of-your-life-4k-05-04-2018-184783
END:VEVENT

END:VCALENDAR
