BEGIN:VCALENDAR
VERSION:2.0
PRODID:-//ChamberMaster//Event Calendar 2.0//EN
METHOD:PUBLISH
X-PUBLISHED-TTL:P3D
REFRESH-INTERVAL:P3D
CALSCALE:GREGORIAN
BEGIN:VEVENT
DTSTART;VALUE=DATE:20180621
DTEND;VALUE=DATE:20180622
TRANSP:TRANSPARENT
X-MICROSOFT-CDO-ALLDAYEVENT:TRUE
SUMMARY:The Daring Way - Show Up / Be Seen / Be Brave
DESCRIPTION:8 week DARING WAY  Group \n\n\n\nThe Daring Way  is a highly experiential methodology based on the research of Dr. Bren  \n\nBrown.  During the process we explore topics such as vulnerability\, courage\, shame\, and \n\nworthiness. We examine the thoughts\, emotions\, and behaviors that are holding us back and \n\nwe identify the new choices and practices that will move us toward more authentic and \n\nwholehearted living. The primary focus is on developing shame resilience skills and developing \n\ndaily practices that transform the way we live\, love\, parent\, and lead.
X-ALT-DESC;FMTTYPE=text/html:8 week DARING WAY&trade\; Group&nbsp\;<br />\n<br />\nThe Daring Way&trade\; is a highly experiential methodology based on the research of Dr. Bren&eacute\;&nbsp\;<br />\nBrown.&nbsp\; During the process we explore topics such as vulnerability\, courage\, shame\, and&nbsp\;<br />\nworthiness. We examine the thoughts\, emotions\, and behaviors that are holding us back and&nbsp\;<br />\nwe identify the new choices and practices that will move us toward more authentic and&nbsp\;<br />\nwholehearted living. The primary focus is on developing shame resilience skills and developing&nbsp\;<br />\ndaily practices that transform the way we live\, love\, parent\, and lead.&nbsp\;<br />\n&nbsp\;
LOCATION:Bridging Hope Counseling 6776 Lake Drive Suite 170 Lino Lakes\, MN 55014
UID:e.380.185311
SEQUENCE:3
DTSTAMP:20260420T212951Z
URL:http://members.metronorthchamber.org/events/details/the-daring-way-show-up-be-seen-be-brave-185311
END:VEVENT

END:VCALENDAR
