BEGIN:VCALENDAR
VERSION:2.0
PRODID:-//ChamberMaster//Event Calendar 2.0//EN
METHOD:PUBLISH
X-PUBLISHED-TTL:P3D
REFRESH-INTERVAL:P3D
CALSCALE:GREGORIAN
BEGIN:VEVENT
DTSTART:20130209T220000Z
DTEND:20130210T000000Z
X-MICROSOFT-CDO-ALLDAYEVENT:FALSE
SUMMARY:The Casa's 3rd Annual Ugly Sweater Wine Tasting
DESCRIPTION:The Casa's 3rd Annual Ugly Sweater Wine Tasting Benefiting the ACBC Foodshelf\n\n \n\nSaturday Feb 9th 4pm\n\n$5 in advance or $10 at the door\n\n100% of proceeds go to the ACBC Foodshelf\n\n\n\nPrizes for the ugliest sweaters!\n\n\n\nAll participants get a coupon for a buy one get one half price entr e.
X-ALT-DESC;FMTTYPE=text/html:<br />\n<span style="font-size:16px\;"><strong><em><span style="font-family: arial\;">The Casa&rsquo\;s 3<span style="font-size:14px\;"><sup>rd</sup></span> Annual Ugly Sweater Wine Tasting Benefiting the ACBC Foodshelf</span></em></strong><br />\n&nbsp\;<br />\n<strong><em><span style="font-family: arial\;">Saturday Feb 9<span style="font-size:14px\;"><sup>th</sup></span> 4pm</span></em></strong><br />\n<strong><em><span style="font-family: arial\;">$5 in advance or $10 at the door</span></em></strong><br />\n<strong><em><span style="font-family: arial\;">100% of proceeds go to the ACBC Foodshelf</span></em></strong><br />\n<br />\n<strong><em><span style="font-family: arial\;">Prizes for the ugliest sweaters!</span></em></strong><br />\n<br />\n<strong><em><span style="font-family: arial\;">All participants get a coupon for a buy one get one half price entr&eacute\;e.</span></em></strong></span>
LOCATION:Casa Rio Tex Mex 201 Jackson Street\, Anoka MN 55303
UID:e.380.148455
SEQUENCE:3
DTSTAMP:20260425T033851Z
URL:http://members.metronorthchamber.org/events/details/the-casa-s-3rd-annual-ugly-sweater-wine-tasting-02-09-2013-148455
END:VEVENT

END:VCALENDAR
