BEGIN:VCALENDAR
VERSION:2.0
PRODID:-//ChamberMaster//Event Calendar 2.0//EN
METHOD:PUBLISH
X-PUBLISHED-TTL:P3D
REFRESH-INTERVAL:P3D
CALSCALE:GREGORIAN
BEGIN:VEVENT
DTSTART:20160428T140000Z
DTEND:20160428T220000Z
X-MICROSOFT-CDO-ALLDAYEVENT:FALSE
SUMMARY:The Before Conference
DESCRIPTION:This event is no joke + unlike any other conference out there.\n\n We have pulled out all the stops + called in all our favors to get only the best speakers.\n\n Don't believe us? We have spent nearly $100\,000 with these peeps for our own biz\n\n + you get access to their expertise for just $347. They won't be pitching to you all day.\n\n These experts are here just to give you quality biz advice.\n\n\n\nThis isn't a popularity contest. You need the right people on your team + to focus on what's important.\n\n\n\nWe will get back to the basics because even veteran biz owners need that sometimes.\n\n There are 10 key people you need in your biz back pocket. Join us + learn who they are.
X-ALT-DESC;FMTTYPE=text/html:This event is no joke + unlike any other conference out there.<br />\n&nbsp\;We have pulled out all the stops + called in all our favors to get only the best speakers.<br />\n&nbsp\;Don&#39\;t believe us? We have spent nearly $100\,000 with these peeps for our own biz<br />\n&nbsp\;+ you get access to their expertise for just $347. They won&#39\;t be pitching to you all day.<br />\n&nbsp\;These experts are here just to give you quality biz advice.<br />\n<br />\nThis isn&#39\;t a popularity contest. You need the right people on your team + to focus on what&#39\;s important.<br />\n<br />\nWe will get back to the basics because even veteran biz owners need that sometimes.<br />\n&nbsp\;There are 10 key people you need in your biz back pocket. Join us + learn who they are.
LOCATION:Hotel 340 In Downtown St. Paul 340 Cedar St\, St Paul\, MN 55101
UID:e.380.167378
SEQUENCE:3
DTSTAMP:20260422T132919Z
URL:http://members.metronorthchamber.org/events/details/the-before-conference-04-28-2016-167378
END:VEVENT

END:VCALENDAR
