BEGIN:VCALENDAR
VERSION:2.0
PRODID:-//ChamberMaster//Event Calendar 2.0//EN
METHOD:PUBLISH
X-PUBLISHED-TTL:P3D
REFRESH-INTERVAL:P3D
CALSCALE:GREGORIAN
BEGIN:VEVENT
DTSTART:20191017T123000Z
DTEND:20191017T220000Z
X-MICROSOFT-CDO-ALLDAYEVENT:FALSE
SUMMARY:The 2019 Minnesota Manufacturing Conference
DESCRIPTION:The 2019 Minnesota Manufacturing Conference will bring together Minnesota manufacturers to strengthen and unify the manufacturing industry on October 16 & 17 at the Minneapolis Marriott Northwest in Brooklyn Park.\n\nThe 2-day conference is a one-stop shop for educational seminars and keynote presentations on lean\, leadership\, technology\, and workforce development. It is the only conference in the state that has been created by and designed for manufacturers.\n\nStrengthen\n\n\n	Exchange ideas with your peers about key industry topics to fortify manufacturing's economic muscle in the state and build a roadmap to future productivity and competitiveness.\n\n\nUnify\n\n\n	Meet and collaborate with manufacturing innovators\, peers\, and professionals to discuss actionable approaches to benefit the manufacturing industry\, especially regarding solutions to meet workforce development challenges.\n\n\nEducate\n\n\n	Learn about best practices in lean\, leadership\, workforce development\, and technology that will enhance your knowledge and expand your education in the rapidly changing manufacturing industry.\n\n\nHeld during Minnesota's manufacturing month\, this is the largest local manufacturing conference of its kind that is designed to bring together members of at least 15 manufacturing associations and professional business groups from around the state to facilitate business relationships that will strengthen the industry's profile.
X-ALT-DESC;FMTTYPE=text/html:<p style="box-sizing: border-box\; margin: 0px 0px 10px\; color: rgb(81\, 81\, 81)\; font-family: Roboto\, sans-serif\; font-size: 12px\; background-color: rgb(255\, 255\, 255)\;"><span style="box-sizing: border-box\; color: rgb(0\, 0\, 0)\;">The 2019 Minnesota Manufacturing Conference will bring together Minnesota manufacturers to strengthen and unify the manufacturing industry on October 16 &amp\; 17 at the Minneapolis Marriott Northwest in Brooklyn Park.</span></p>\n\n<p style="box-sizing: border-box\; margin: 0px 0px 10px\; color: rgb(81\, 81\, 81)\; font-family: Roboto\, sans-serif\; font-size: 12px\; background-color: rgb(255\, 255\, 255)\;"><span style="box-sizing: border-box\; color: rgb(0\, 0\, 0)\;">The 2-day conference is a one-stop shop for educational seminars and keynote presentations on lean\, leadership\, technology\, and workforce development. It is the only conference in the state that has been created by and designed for manufacturers.</span></p>\n\n<p style="box-sizing: border-box\; margin: 0px 0px 10px\; color: rgb(81\, 81\, 81)\; font-family: Roboto\, sans-serif\; font-size: 12px\; background-color: rgb(255\, 255\, 255)\;"><span style="box-sizing: border-box\; color: rgb(0\, 0\, 0)\;"><span style="box-sizing: border-box\; font-weight: 700\;">Strengthen</span></span></p>\n\n<ul style="box-sizing: border-box\; margin-top: 0px\; margin-bottom: 10px\; color: rgb(81\, 81\, 81)\; font-family: Roboto\, sans-serif\; font-size: 12px\; background-color: rgb(255\, 255\, 255)\;">\n	<li style="box-sizing: border-box\;"><span style="box-sizing: border-box\; color: rgb(0\, 0\, 0)\;">Exchange ideas with your peers about key industry topics to fortify manufacturing&rsquo\;s economic muscle in the state and build a roadmap to future productivity and competitiveness.</span></li>\n</ul>\n\n<p style="box-sizing: border-box\; margin: 0px 0px 10px\; color: rgb(81\, 81\, 81)\; font-family: Roboto\, sans-serif\; font-size: 12px\; background-color: rgb(255\, 255\, 255)\;"><span style="box-sizing: border-box\; color: rgb(0\, 0\, 0)\;"><span style="box-sizing: border-box\; font-weight: 700\;">Unify</span></span></p>\n\n<ul style="box-sizing: border-box\; margin-top: 0px\; margin-bottom: 10px\; color: rgb(81\, 81\, 81)\; font-family: Roboto\, sans-serif\; font-size: 12px\; background-color: rgb(255\, 255\, 255)\;">\n	<li style="box-sizing: border-box\;"><span style="box-sizing: border-box\; color: rgb(0\, 0\, 0)\;">Meet and collaborate with manufacturing innovators\, peers\, and professionals to discuss actionable approaches to benefit the manufacturing industry\, especially regarding solutions to meet workforce development challenges.</span></li>\n</ul>\n\n<p style="box-sizing: border-box\; margin: 0px 0px 10px\; color: rgb(81\, 81\, 81)\; font-family: Roboto\, sans-serif\; font-size: 12px\; background-color: rgb(255\, 255\, 255)\;"><span style="box-sizing: border-box\; color: rgb(0\, 0\, 0)\;"><span style="box-sizing: border-box\; font-weight: 700\;">Educate</span></span></p>\n\n<ul style="box-sizing: border-box\; margin-top: 0px\; margin-bottom: 10px\; color: rgb(81\, 81\, 81)\; font-family: Roboto\, sans-serif\; font-size: 12px\; background-color: rgb(255\, 255\, 255)\;">\n	<li style="box-sizing: border-box\;"><span style="box-sizing: border-box\; color: rgb(0\, 0\, 0)\;">Learn about best practices in lean\, leadership\, workforce development\, and technology that will enhance your knowledge and expand your education in the rapidly changing manufacturing industry.</span></li>\n</ul>\n\n<p style="box-sizing: border-box\; margin: 0px 0px 10px\; color: rgb(81\, 81\, 81)\; font-family: Roboto\, sans-serif\; font-size: 12px\; background-color: rgb(255\, 255\, 255)\;"><span style="box-sizing: border-box\;"><span style="box-sizing: border-box\; color: rgb(0\, 0\, 0)\;">Held during Minnesota&rsquo\;s manufacturing month\, this is the largest local manufacturing conference of its kind that is designed to bring together members of at least 15 manufacturing associations and professional business groups from around the state to facilitate business relationships that will strengthen the industry&rsquo\;s profile.</span></span></p>\n
LOCATION:Minneapolis Marriott Northwest 7025 Northland Drive Brooklyn Park\, Minnesota 55428 United States
UID:e.380.189328
SEQUENCE:3
DTSTAMP:20260419T180408Z
URL:http://members.metronorthchamber.org/events/details/the-2019-minnesota-manufacturing-conference-189328
END:VEVENT

END:VCALENDAR
