BEGIN:VCALENDAR
VERSION:2.0
PRODID:-//ChamberMaster//Event Calendar 2.0//EN
METHOD:PUBLISH
X-PUBLISHED-TTL:P3D
REFRESH-INTERVAL:P3D
CALSCALE:GREGORIAN
BEGIN:VEVENT
DTSTART;VALUE=DATE:20191128
DTEND;VALUE=DATE:20191129
TRANSP:TRANSPARENT
X-MICROSOFT-CDO-ALLDAYEVENT:TRUE
SUMMARY:Thanksgiving-Chamber Office Closed
DESCRIPTION:Click here to edit...
X-ALT-DESC;FMTTYPE=text/html:<div style="COLOR: gray">Click here to edit...</div>\n
LOCATION:Click here to edit...
UID:e.380.191393
SEQUENCE:3
DTSTAMP:20260419T161311Z
URL:http://members.metronorthchamber.org/events/details/thanksgiving-chamber-office-closed-191393
END:VEVENT

END:VCALENDAR
