BEGIN:VCALENDAR
VERSION:2.0
PRODID:-//ChamberMaster//Event Calendar 2.0//EN
METHOD:PUBLISH
X-PUBLISHED-TTL:P3D
REFRESH-INTERVAL:P3D
CALSCALE:GREGORIAN
BEGIN:VEVENT
DTSTART:20150309T160000Z
DTEND:20150309T180000Z
X-MICROSOFT-CDO-ALLDAYEVENT:FALSE
SUMMARY:Texas Roadhouse Benefit Lunch for Impact Services
DESCRIPTION:
X-ALT-DESC;FMTTYPE=text/html:
LOCATION:Texas Roadhouse in Coon Rapids
UID:e.380.157077
SEQUENCE:3
DTSTAMP:20260423T112221Z
URL:http://members.metronorthchamber.org/events/details/texas-roadhouse-benefit-lunch-for-impact-services-03-09-2015-157077
END:VEVENT

END:VCALENDAR
