BEGIN:VCALENDAR
VERSION:2.0
PRODID:-//ChamberMaster//Event Calendar 2.0//EN
METHOD:PUBLISH
X-PUBLISHED-TTL:P3D
REFRESH-INTERVAL:P3D
CALSCALE:GREGORIAN
BEGIN:VEVENT
DTSTART:20170503T000000Z
DTEND:20170503T020000Z
X-MICROSOFT-CDO-ALLDAYEVENT:FALSE
SUMMARY:Tequila Seminar
DESCRIPTION:Are you ready for Cinco de Mayo? We're here to help! Presenting a Tequila Seminar with help from Pernod-Ricard\, we will be sampling our way through several different Tequilas\, learning a little bit about the rich history and we may dive into a cocktail or two!\nFeaturing Samples from\n\n\n	Altos Olmeca\n\n	\n		Plata\n		Reposado\n	\n	\n	Avion\n	\n		Silver\n		Reposado\n		Anejo\n		Reserva 44 Extra Anejo\n	\n	\n\n\nRSVP on the Facebook Event Page\n\nMust be at least 21 years old to attend\n\nOrder tickets online\, Call (763) 754-3231 or stop in to reserve your spot!\n\n$10 to reserve your spot\, you will receive a voucher good towards any of the featured products.\n\n*All cancellations must be made 24hrs in advance for refund.*\n\n**Rewards members gain free access\, but must still reserve their spot.
X-ALT-DESC;FMTTYPE=text/html:<span style="background-color:rgb(255\, 255\, 255)\; color:rgb(31\, 31\, 31)\; font-family:proxima-nova\,sans-serif\; font-size:14px">Are you ready for Cinco de Mayo? We&rsquo\;re here to help! Presenting a Tequila Seminar with help from&nbsp\;</span><a href="https://www.pernod-ricard.com/en" style="box-sizing: border-box\; margin: 0px\; padding: 0px\; border: 0px\; outline: 0px\; background: rgb(255\, 255\, 255)\; font-size: 14px\; vertical-align: baseline\; color: rgb(102\, 141\, 165)\; text-decoration-line: none\; font-family: proxima-nova\, sans-serif\;" target="_blank">Pernod-Ricard</a><span style="background-color:rgb(255\, 255\, 255)\; color:rgb(31\, 31\, 31)\; font-family:proxima-nova\,sans-serif\; font-size:14px">\, we will be sampling our way through several different Tequilas\, learning a little bit about the rich history and we may dive into a cocktail or two!</span>\n<h2>Featuring Samples from</h2>\n\n<ul>\n	<li><a href="https://www.altostequila.com/" style="box-sizing: border-box\; margin: 0px\; padding: 0px\; border: 0px\; outline: 0px\; background: transparent\; vertical-align: baseline\; color: rgb(102\, 141\, 165)\; text-decoration-line: none\;" target="_blank">Altos Olmeca</a>\n\n	<ul>\n		<li>Plata</li>\n		<li>Reposado</li>\n	</ul>\n	</li>\n	<li><a href="https://tequilaavion.com/" style="box-sizing: border-box\; margin: 0px\; padding: 0px\; border: 0px\; outline: 0px\; background: transparent\; vertical-align: baseline\; color: rgb(102\, 141\, 165)\; text-decoration-line: none\;" target="_blank">Avion</a>\n	<ul>\n		<li>Silver</li>\n		<li>Reposado</li>\n		<li>Anejo</li>\n		<li>Reserva 44 Extra Anejo</li>\n	</ul>\n	</li>\n</ul>\n\n<p>RSVP on the&nbsp\;<a href="https://www.facebook.com/events/429948724016029/" style="box-sizing: border-box\; margin: 0px\; padding: 0px\; border: 0px\; outline: 0px\; background: transparent\; vertical-align: baseline\; color: rgb(102\, 141\, 165)\; text-decoration-line: none\;" target="_blank">Facebook Event Page</a></p>\n\n<p>Must be at least 21 years old to attend</p>\n\n<p>Order tickets online\, Call (763) 754-3231 or stop in to reserve your spot!</p>\n\n<p>$10 to reserve your spot\, you will receive a voucher good towards any of the featured products.</p>\n\n<p>*All cancellations must be made 24hrs in advance for refund.*</p>\n\n<p>**Rewards members gain free access\, but must still reserve their spot.</p>\n
LOCATION:Top Ten Liquor 12513 Central Ave NE Blaine\, MN 55434
UID:e.380.175015
SEQUENCE:3
DTSTAMP:20260421T152340Z
URL:http://members.metronorthchamber.org/events/details/tequila-seminar-175015
END:VEVENT

END:VCALENDAR
