BEGIN:VCALENDAR
VERSION:2.0
PRODID:-//ChamberMaster//Event Calendar 2.0//EN
METHOD:PUBLISH
X-PUBLISHED-TTL:P3D
REFRESH-INTERVAL:P3D
CALSCALE:GREGORIAN
BEGIN:VEVENT
DTSTART:20150814T220000Z
DTEND:20150816T043000Z
X-MICROSOFT-CDO-ALLDAYEVENT:FALSE
SUMMARY:Tent Party Weekend for Cancer Research
DESCRIPTION:This is a two day benefit for cancer research and patient aid in Minnesota.
X-ALT-DESC;FMTTYPE=text/html:<span style="font-size: 18px\;">This is a two day benefit for cancer research and patient&nbsp\;aid in Minnesota.</span>
LOCATION:Moe's\, 2400 Highway 10\, Mounds View\, MN 55112
UID:e.380.157877
SEQUENCE:3
DTSTAMP:20260423T043935Z
URL:http://members.metronorthchamber.org/events/details/tent-party-weekend-for-cancer-research-08-14-2015-157877
END:VEVENT

END:VCALENDAR
