BEGIN:VCALENDAR
VERSION:2.0
PRODID:-//ChamberMaster//Event Calendar 2.0//EN
METHOD:PUBLISH
X-PUBLISHED-TTL:P3D
REFRESH-INTERVAL:P3D
CALSCALE:GREGORIAN
BEGIN:VEVENT
DTSTART:20180712T230000Z
DTEND:20180713T020000Z
X-MICROSOFT-CDO-ALLDAYEVENT:FALSE
SUMMARY:TC Harley Davidson Bike Night
DESCRIPTION:Bike night at Mad Jacks Sports Cafe from 6pm to 9pm. Live music\, street tacos\, drink specials\, and giveaways. See you there!\n\nRide Safe\, Ride Sober.
X-ALT-DESC;FMTTYPE=text/html:<span style="color: rgb(75\, 79\, 86)\; font-family: Helvetica\, Arial\, sans-serif\; font-size: 14px\; background-color: rgb(255\, 255\, 255)\;">Bike night at Mad Jacks Sports Cafe from 6pm to 9pm. Live music\, street tacos\, drink specials\, and giveaways. See you there!</span><br style="color: rgb(75\, 79\, 86)\; font-family: Helvetica\, Arial\, sans-serif\; font-size: 14px\; background-color: rgb(255\, 255\, 255)\;" />\n<span style="color: rgb(75\, 79\, 86)\; font-family: Helvetica\, Arial\, sans-serif\; font-size: 14px\; background-color: rgb(255\, 255\, 255)\;">Ride Safe\, Ride Sober.</span>
LOCATION:pin Mad Jacks Sports Cafe 935 County Road E E\, Vadnais Heights\, Minnesota 55127
UID:e.380.184872
SEQUENCE:3
DTSTAMP:20260420T195350Z
URL:http://members.metronorthchamber.org/events/details/tc-harley-davidson-bike-night-184872
END:VEVENT

END:VCALENDAR
