BEGIN:VCALENDAR
VERSION:2.0
PRODID:-//ChamberMaster//Event Calendar 2.0//EN
METHOD:PUBLISH
X-PUBLISHED-TTL:P3D
REFRESH-INTERVAL:P3D
CALSCALE:GREGORIAN
BEGIN:VEVENT
DTSTART:20190721T000000Z
DTEND:20190721T030000Z
X-MICROSOFT-CDO-ALLDAYEVENT:FALSE
SUMMARY:Taylors Falls Scenic Boat Tours - Wine & Chocolate Dinner Cruise
DESCRIPTION:Enjoy fine chocolate\, local Winehaven wines and a romantic dinner at sunset aboard one of our authentic paddlewheel riverboats on the scenic St. Croix River. Enjoy a delicious buffet-style meal\, live entertainment and the beauty of the St. Croix River. As you board the boat you will be able to pick up a light appetizer of fresh cut fruit and a pasta salad to enjoy the narrated scenic tour of the history and rock formations along the river prior to your meal is served. \n\nYour meal includes: your choice of Roast Prime Rib of Beef Au Jus\, carved to order\, with garlic mashed potatoes\, or Boneless Breast of Chicken on a bed of wild rice served with a delicate mushroom and brie sauce. We also offer cheese stuffed shells served with marinara sauce.  All entr es are served with assorted bread\,  vegetable\, and dessert\, coffee\, and water. We offer a full cash bar which also accepts Mastercard\, Visa or Discover. Soft drinks are available for purchase as well.
X-ALT-DESC;FMTTYPE=text/html:<p>Enjoy fine chocolate\, local&nbsp\;<a href="http://www.winehaven.com/" style="box-sizing: border-box\; background-color: transparent\; color: rgb(51\, 122\, 183)\; text-decoration-line: none\; transition: all 0.3s ease 0s\;" target="_blank">Winehaven</a>&nbsp\;wines and a romantic dinner at sunset aboard one of our authentic paddlewheel riverboats on the scenic St. Croix River. Enjoy a delicious buffet-style meal\, live entertainment and the beauty of the St. Croix River. As you board the boat you will be able to pick up a light appetizer of fresh cut fruit and a pasta salad to enjoy the narrated scenic tour of the history and rock formations along the river prior to your meal is served.&nbsp\;</p>\n\n<p><strong>Your meal includes:</strong>&nbsp\;your choice of Roast Prime Rib of Beef Au Jus\, carved to order\, with garlic mashed potatoes\, or Boneless Breast of Chicken on a bed of wild rice served with a delicate mushroom and brie sauce. We also offer cheese stuffed shells served with marinara sauce. &nbsp\;All entr&eacute\;es are served with assorted bread\,&nbsp\; vegetable\, and dessert\, coffee\, and water. We offer a full cash bar which also accepts Mastercard\, Visa or Discover. Soft drinks are available for purchase as well.</p>\n
LOCATION:220 South Street Taylors Falls\, MN 55084
UID:e.380.188195
SEQUENCE:3
DTSTAMP:20260419T230107Z
URL:http://members.metronorthchamber.org/events/details/taylors-falls-scenic-boat-tours-wine-chocolate-dinner-cruise-07-20-2019-188195
END:VEVENT

END:VCALENDAR
