BEGIN:VCALENDAR
VERSION:2.0
PRODID:-//ChamberMaster//Event Calendar 2.0//EN
METHOD:PUBLISH
X-PUBLISHED-TTL:P3D
REFRESH-INTERVAL:P3D
CALSCALE:GREGORIAN
BEGIN:VEVENT
DTSTART:20190511T230000Z
DTEND:20190513T020000Z
X-MICROSOFT-CDO-ALLDAYEVENT:FALSE
SUMMARY:Taylors Falls Scenic Boat Tours - Mother's Day Dinner Cruise
DESCRIPTION:Dining aboard one of our authentic paddlewheel riverboats is a delightful way to spend a summer evening with your mother. Enjoy a delicious buffet-style meal\, live entertainment and the beauty of the St. Croix River. \n\nYour meal includes your choice of Roast Prime Rib of Beef AuJus\, carved to order\, with garlic mashed potatoes or Boneless Breast of Chicken on a bed of wild rice served with a delicate mushroom and brie sauce. We also offer four cheese stuffed shells served with marinara sauce. All entr es are served with assorted bread\,  vegetable\, dessert\, coffee\, and water. We offer a full cash bar which also accepts Mastercard\, Visa or Discover.  Soft drinks and lemonade are available for purchase as well.
X-ALT-DESC;FMTTYPE=text/html:<p>Dining aboard one of our authentic paddlewheel riverboats is a delightful way to spend a summer evening with your mother.&nbsp\;Enjoy a delicious buffet-style meal\, live entertainment and the beauty of the St. Croix River.&nbsp\;</p>\n\n<p><strong>Y</strong><strong>our meal&nbsp\;includes</strong>&nbsp\;your choice of Roast Prime Rib of Beef AuJus\, carved to order\, with garlic mashed potatoes or Boneless Breast of Chicken on a bed of wild rice served with a delicate mushroom and brie sauce. We also offer four cheese stuffed shells served with marinara sauce. All entr&eacute\;es are served with assorted&nbsp\;bread\,&nbsp\; vegetable\, dessert\, coffee\, and&nbsp\;water. We offer a full cash bar which also accepts Mastercard\, Visa or Discover. &nbsp\;Soft drinks and lemonade are available for purchase as well.</p>\n
LOCATION:220 South Street Taylors Falls\, MN 55084
UID:e.380.188201
SEQUENCE:3
DTSTAMP:20260420T023358Z
URL:http://members.metronorthchamber.org/events/details/taylors-falls-scenic-boat-tours-mother-s-day-dinner-cruise-188201
END:VEVENT

END:VCALENDAR
