BEGIN:VCALENDAR
VERSION:2.0
PRODID:-//ChamberMaster//Event Calendar 2.0//EN
METHOD:PUBLISH
X-PUBLISHED-TTL:P3D
REFRESH-INTERVAL:P3D
CALSCALE:GREGORIAN
BEGIN:VEVENT
DTSTART:20190512T153000Z
DTEND:20190512T173000Z
X-MICROSOFT-CDO-ALLDAYEVENT:FALSE
SUMMARY:Taylors Falls Scenic Boat Tours - Mother's Day Brunch
DESCRIPTION:Dining aboard one of our authentic paddlewheel riverboats is a delightful way to spend the day with your Mother.  Enjoy a delicious buffet-style meal\, live entertainment and the beauty of the St. Croix River. \n\nYour meal includes Freshly carved ham\, cheesy scrambled eggs\, au gratin potatoes\, fruit\, muffins\,  bacon\, pasta salad\, juice\, coffee\, and water. We offer a full cash bar which also accepts Mastercard\, Visa or Discover. Soft drinks and lemonade are available for purchase as well.
X-ALT-DESC;FMTTYPE=text/html:<p>Dining aboard one of our authentic paddlewheel riverboats is a delightful way to spend the day with your Mother.&nbsp\; Enjoy a delicious buffet-style meal\, live entertainment and the beauty of the St. Croix River.&nbsp\;</p>\n\n<p><strong>Your meal&nbsp\;includes</strong>&nbsp\;Freshly carved ham\, cheesy scrambled eggs\, au gratin potatoes\, fruit\, muffins\,&nbsp\; bacon\, pasta salad\, juice\, coffee\, and&nbsp\;water. We offer a full cash bar which also accepts Mastercard\, Visa or Discover. Soft drinks and lemonade are available for purchase as well.&nbsp\;</p>\n
LOCATION:220 South Street Taylors Falls\, MN 55084
UID:e.380.188199
SEQUENCE:3
DTSTAMP:20260420T023358Z
URL:http://members.metronorthchamber.org/events/details/taylors-falls-scenic-boat-tours-mother-s-day-brunch-188199
END:VEVENT

END:VCALENDAR
