BEGIN:VCALENDAR
VERSION:2.0
PRODID:-//ChamberMaster//Event Calendar 2.0//EN
METHOD:PUBLISH
X-PUBLISHED-TTL:P3D
REFRESH-INTERVAL:P3D
CALSCALE:GREGORIAN
BEGIN:VEVENT
DTSTART:20191003T153000Z
DTEND:20191003T173000Z
X-MICROSOFT-CDO-ALLDAYEVENT:FALSE
SUMMARY:Taylors Falls Scenic Boat Tours - Leaf Season Lunch Cruise
DESCRIPTION:Take in the fall colors with our combination boat tour and luncheon buffet on board one of our authentic Paddlewheel riverboats.\n\nRelax for 2 hours and enjoy an outstanding luncheon while your riverboat pilot and Tour guide point out the unique rock formations and the history of the St. Croix River Valley.\n\nYour meal includes 5 oz. Chicken Breast served with dollars buns\, garlic mashed potatoes\, coleslaw\, baked beans\, brownie\, coffee\, and water.\n\nWe offer a full cash bar which also accepts MasterCard\, Visa\, or Discover. Soft drinks and lemonade are available for purchase as well.
X-ALT-DESC;FMTTYPE=text/html:<p>Take in the fall colors with our combination boat tour and luncheon buffet on board one of our authentic&nbsp\;Paddlewheel riverboats.</p>\n\n<p>Relax for 2 hours and enjoy an outstanding luncheon while your riverboat pilot and&nbsp\;Tour guide point out the unique rock formations and the history of the St. Croix River Valley.</p>\n\n<p><strong>Your meal includes</strong>&nbsp\;5 oz. Chicken Breast served with dollars buns\, garlic mashed potatoes\, coleslaw\, baked&nbsp\;beans\, brownie\, coffee\, and water.</p>\n\n<p>We offer a full cash bar which also accepts MasterCard\, Visa\, or Discover. Soft&nbsp\;drinks and lemonade are available for purchase as well.</p>\n
LOCATION:220 South Street Taylors Falls\, MN 55084
UID:e.380.188206
SEQUENCE:3
DTSTAMP:20260419T181044Z
URL:http://members.metronorthchamber.org/events/details/taylors-falls-scenic-boat-tours-leaf-season-lunch-cruise-10-03-2019-188206
END:VEVENT

END:VCALENDAR
