BEGIN:VCALENDAR
VERSION:2.0
PRODID:-//ChamberMaster//Event Calendar 2.0//EN
METHOD:PUBLISH
X-PUBLISHED-TTL:P3D
REFRESH-INTERVAL:P3D
CALSCALE:GREGORIAN
BEGIN:VEVENT
DTSTART:20190616T000000Z
DTEND:20190616T030000Z
X-MICROSOFT-CDO-ALLDAYEVENT:FALSE
SUMMARY:Taylors Falls Scenic Boat Tours - Father's Day Dinner Cruise
DESCRIPTION:Your meal includes your choice of Roast Prime Rib of Beef AuJus\, carved to order\, with garlic mashed potatoes or Boneless Breast of Chicken on a bed of wild rice served with a delicate mushroom and brie sauce. We also offer cheese stuffed shells served with marinara sauce. All entr es are served with assorted bread\, vegetable\, dessert\, coffee\, and water. We offer a full cash bar which also accepts Mastercard\, Visa or Discover.  Soft drinks and lemonade are available for purchase as well.
X-ALT-DESC;FMTTYPE=text/html:<p><strong>Your meal includes</strong><span style="background-color:rgb(255\, 255\, 255)\; color:rgb(51\, 51\, 51)\; font-family:arial\,helvetica\,sans-serif\; font-size:13px">&nbsp\;your choice of Roast Prime Rib of Beef AuJus\, carved to order\, with garlic mashed potatoes or Boneless Breast of Chicken on a bed of wild rice served with a delicate mushroom and brie sauce. We also offer cheese stuffed shells served with marinara sauce. All entr&eacute\;es are served with assorted bread\, vegetable\, dessert\, coffee\, and water. We offer a full cash bar which also accepts Mastercard\, Visa or Discover. &nbsp\;Soft drinks and lemonade are available for purchase as well.</span></p>\n
LOCATION:220 South Street Taylors Falls\, MN 55084
UID:e.380.188202
SEQUENCE:3
DTSTAMP:20260420T004122Z
URL:http://members.metronorthchamber.org/events/details/taylors-falls-scenic-boat-tours-father-s-day-dinner-cruise-188202
END:VEVENT

END:VCALENDAR
