BEGIN:VCALENDAR
VERSION:2.0
PRODID:-//ChamberMaster//Event Calendar 2.0//EN
METHOD:PUBLISH
X-PUBLISHED-TTL:P3D
REFRESH-INTERVAL:P3D
CALSCALE:GREGORIAN
BEGIN:VEVENT
DTSTART:20190616T153000Z
DTEND:20190616T173000Z
X-MICROSOFT-CDO-ALLDAYEVENT:FALSE
SUMMARY:Taylors Falls Scenic Boat Tours - Father's Day Dinner Cruise
DESCRIPTION:This two-hour cruise includes a narrated scenic tour through the Dalles of the St. Croix\, live entertainment for easy listening\, and buffet style meal. \n\nYour meal includes Freshly carved ham\, cheesy scrambled eggs\, au gratin potatoes\, fruit\, bacon\, pasta salad\, muffins\, juice\, coffee\, and water.  We offer a full cash bar which also accepts Mastercard\, Visa or Discover.  Soft drinks and lemonade are available for purchase as well.
X-ALT-DESC;FMTTYPE=text/html:<p>This two-hour cruise includes a narrated scenic tour through the Dalles of the St. Croix\, live entertainment for easy listening\, and buffet style meal.&nbsp\;</p>\n\n<p><strong>Your meal includes</strong>&nbsp\;Freshly carved ham\, cheesy scrambled eggs\, au gratin potatoes\, fruit\, bacon\, pasta salad\, muffins\, juice\, coffee\, and water. &nbsp\;We offer a full cash bar which also accepts Mastercard\, Visa or Discover. &nbsp\;Soft drinks and lemonade are available for purchase as well.</p>\n
LOCATION:220 South Street Taylors Falls\, MN 55084
UID:e.380.188203
SEQUENCE:3
DTSTAMP:20260420T003047Z
URL:http://members.metronorthchamber.org/events/details/taylors-falls-scenic-boat-tours-father-s-day-dinner-cruise-06-16-2019-188203
END:VEVENT

END:VCALENDAR
