BEGIN:VCALENDAR
VERSION:2.0
PRODID:-//ChamberMaster//Event Calendar 2.0//EN
METHOD:PUBLISH
X-PUBLISHED-TTL:P3D
REFRESH-INTERVAL:P3D
CALSCALE:GREGORIAN
BEGIN:VEVENT
DTSTART:20190914T000000Z
DTEND:20190914T020000Z
X-MICROSOFT-CDO-ALLDAYEVENT:FALSE
SUMMARY:Taylors Falls Scenic Boat Tours - Elvis Cruise
DESCRIPTION:Includes: live musical performance\, excursion\, and hors-d'oeuvres with a full cash bar which also accepts Mastercard\, Visa or Discover. Soft drinks and lemonade are available for purchase as well.  Theatre style seating.\n\nSteve Marcio has won several awards including 1st place in the "Contest of the Kings: at the Mall of America in 2007. He was the winner or the "Ultimate Elvis Contest" in Branson Missouri and many more awards.  A show you can't miss
X-ALT-DESC;FMTTYPE=text/html:<p><strong>Includes:</strong>&nbsp\;live musical performance\, excursion\, and hors-d&#39\;oeuvres with a full cash bar which also accepts Mastercard\, Visa or Discover. Soft drinks and lemonade are available for purchase as well. &nbsp\;Theatre style seating.</p>\n\n<p><a href="https://www.facebook.com/people/Steve-Marcio/100000039693918" style="box-sizing: border-box\; background-color: transparent\; color: rgb(51\, 122\, 183)\; text-decoration-line: none\; transition: all 0.3s ease 0s\;" target="_blank">Steve Marcio</a>&nbsp\;has won several awards including 1st place in the &quot\;Contest of the Kings: at the Mall of America in 2007. He was the winner or the &quot\;Ultimate Elvis Contest&quot\; in Branson Missouri and many more awards. &nbsp\;A show you can&#39\;t miss</p>\n
LOCATION:220 South Street Taylors Falls\, MN 55084
UID:e.380.188198
SEQUENCE:3
DTSTAMP:20260419T193718Z
URL:http://members.metronorthchamber.org/events/details/taylors-falls-scenic-boat-tours-elvis-cruise-09-13-2019-188198
END:VEVENT

END:VCALENDAR
