BEGIN:VCALENDAR
VERSION:2.0
PRODID:-//ChamberMaster//Event Calendar 2.0//EN
METHOD:PUBLISH
X-PUBLISHED-TTL:P3D
REFRESH-INTERVAL:P3D
CALSCALE:GREGORIAN
BEGIN:VEVENT
DTSTART:20190630T000000Z
DTEND:20190630T030000Z
X-MICROSOFT-CDO-ALLDAYEVENT:FALSE
SUMMARY:Taylors Falls Scenic Boat Tours - Dinner Cruise
DESCRIPTION:Dining aboard one of our authentic paddlewheel riverboats is a delightful way to spend a summer or fall evening with friends and family. Enjoy a delicious meal\, live entertainment and the beauty of the St. Croix River. As you board the boat you will be able to pick up a light appetizer of fresh cut fruit and a pasta salad to enjoy during the narrated scenic tour of the history and rock formations along the river prior to your meal is served. \n \n\nYour meal includes: Roast prime rib of beef au jus\, carved to order\, with garlic mashed potatoes\, or boneless breast of chicken on a bed of wild rice served with a mushroom & brie sauce. We offer four cheese stuffed shells served with marinara sauce for a meatless option.  All entrees are served with assorted bread\,  vegetable\, dessert\, coffee\, and water. We offer a full cash bar which also accepts Mastercard\, Visa or Discover. Soft drinks and lemonade are available for purchase as well.
X-ALT-DESC;FMTTYPE=text/html:<span style="background-color:rgb(255\, 255\, 255)\; color:rgb(51\, 51\, 51)\; font-family:arial\,helvetica\,sans-serif\; font-size:13px">Dining aboard one of our authentic paddlewheel riverboats is a delightful way to spend a summer or fall evening with friends and family. Enjoy a delicious meal\, live entertainment and the beauty of the St. Croix River. As you board the boat you will be able to pick up a light appetizer of fresh cut fruit and a pasta salad&nbsp\;to enjoy during the narrated scenic tour of the history and rock formations along the river prior to your meal is served.&nbsp\;</span>\n<div>&nbsp\;</div>\n\n<div><strong>Your meal includes:</strong><span style="background-color:rgb(255\, 255\, 255)\; color:rgb(51\, 51\, 51)\; font-family:arial\,helvetica\,sans-serif\; font-size:13px">&nbsp\;Roast prime rib of beef au jus\, carved to order\, with garlic mashed potatoes\, or boneless breast of chicken on a bed of wild rice served with a mushroom &amp\; brie sauce. We offer four cheese stuffed shells served with marinara sauce for a meatless option. &nbsp\;All entrees are served with assorted bread\,&nbsp\; vegetable\, dessert\, coffee\, and water. We offer a full cash bar which also accepts Mastercard\, Visa or Discover. Soft drinks and lemonade are available for purchase as well.</span></div>\n
LOCATION:220 South Street Taylors Falls\, MN 55084
UID:e.380.188174
SEQUENCE:3
DTSTAMP:20260420T003810Z
URL:http://members.metronorthchamber.org/events/details/taylors-falls-scenic-boat-tours-dinner-cruise-188174
END:VEVENT

END:VCALENDAR
