BEGIN:VCALENDAR
VERSION:2.0
PRODID:-//ChamberMaster//Event Calendar 2.0//EN
METHOD:PUBLISH
X-PUBLISHED-TTL:P3D
REFRESH-INTERVAL:P3D
CALSCALE:GREGORIAN
BEGIN:VEVENT
DTSTART:20120216T223000Z
DTEND:20120217T020000Z
X-MICROSOFT-CDO-ALLDAYEVENT:FALSE
SUMMARY:Taste of Blaine
DESCRIPTION:This is Free2B!'s seventh annual Taste of Blaine at the National Sports Center (Schwan Center) in Blaine on Thursday\, February 16\, 2012 from 4:30 pm to 8:00 pm.  Tickets are $35 each before the event or $45 each at the door. Over thirty restaurants will fill the Schwan Center at the National Sports Center with exquisite aromas. Last year almost a 1\,000 people enjoyed the food at the fundraiser event for Free2B!  These funds will go a long way to help with the cost of car repairs for low income residents of Anoka County. Free2B! is a non profit 501 C 3 agency that accepts donated cars\, repairs them and then donates them to eligible Anoka County residents.  The Free2B! Car Care Program includes components of repair or provides initial transportation for individuals in need.  The mission of Free2B! is providing car care to enable independence. Restoring hope one car at a time!\n\n	To purchase tickets by mail click on this link and mail in brochure with payment.\n\n	To purchase tickets through website at www.freetobeinc.org:\n\n	\n		Click the "Donate Now" button\n	\n		Then click "Donate"\n	\n		Put in the amount   $35 per ticket\n	\n		You must check "Add a designation"\n	\n		Enter "Taste of Blaine"\n	\n		Enter the rest of the information\n	\n		If you donate anonymously\, we won't know who to send the tickets to\, so please enter all the information.
X-ALT-DESC;FMTTYPE=text/html:<span style="font-size:10px\;"><span style="font-family: tahoma\;">This is Free2B!&rsquo\;s&nbsp\;seventh annual Taste of Blaine at the National Sports Center (Schwan Center) in Blaine on Thursday\, February 16\, 2012 from 4:30 pm to 8:00 pm.&nbsp\; Tickets are $35 each before the event or $45 each at the door. Over thirty restaurants will fill the Schwan Center at the National Sports Center with exquisite aromas. Last year almost a 1\,000 people enjoyed the food at the fundraiser event for Free2B!&nbsp\; These funds will go a long way to help with the cost of car repairs for low income residents of Anoka County. Free2B! is a non profit 501 C 3 agency that accepts donated cars\, repairs them and then donates them to eligible Anoka County residents.&nbsp\; The Free2B! Car Care Program includes components of repair or provides initial transportation for individuals in need.&nbsp\; The mission of Free2B! is providing car care to enable independence. Restoring hope one car at a time!</span></span>\n<p>\n	<span style="font-size:10px\;"><span style="font-family: tahoma\;">To purchase tickets by mail click on <strong><a href="http://freetobeinc.org/wp-content/uploads/2012/01/TasteOfBlaine-Brochure-2012.pdf" target="_blank" title="Taste of Blaine brochure">this link</a> and mail in&nbsp\;brochure with payment.</strong></span></span></p>\n<p>\n	<span style="font-size:10px\;"><span style="font-family: tahoma\;">To purchase tickets through website at www.</span>freetobeinc.org<span style="font-family: tahoma\;">:</span></span></p>\n<ol>\n	<li>\n		<span style="font-size:10px\;"><span style="font-family: tahoma\;">Click the &ldquo\;Donate Now&rdquo\; button</span></span></li>\n	<li>\n		<span style="font-size:10px\;"><span style="font-family: tahoma\;">Then click &ldquo\;Donate&rdquo\;</span></span></li>\n	<li>\n		<span style="font-size:10px\;"><span style="font-family: tahoma\;">Put in the amount &ndash\; $35 per ticket</span></span></li>\n	<li>\n		<span style="font-size:10px\;"><span style="font-family: tahoma\;">You must check &ldquo\;Add a designation&rdquo\;</span></span></li>\n	<li>\n		<span style="font-size:10px\;"><span style="font-family: tahoma\;">Enter &ldquo\;Taste of Blaine&rdquo\;</span></span></li>\n	<li>\n		<span style="font-size:10px\;"><span style="font-family: tahoma\;">Enter the rest of the information</span></span></li>\n	<li>\n		<span style="font-size:10px\;"><span style="font-family: tahoma\;">If you donate anonymously\, we won&rsquo\;t know who to send the tickets to\, so please enter all the information.</span></span></li>\n</ol>\n
LOCATION:Schwan Center\, National Sports Center 1700 105th Avenue NE Blaine\, MN 55449
UID:e.380.143318
SEQUENCE:3
DTSTAMP:20260426T003256Z
URL:http://members.metronorthchamber.org/events/details/taste-of-blaine-02-16-2012-143318
END:VEVENT

END:VCALENDAR
