BEGIN:VCALENDAR
VERSION:2.0
PRODID:-//ChamberMaster//Event Calendar 2.0//EN
METHOD:PUBLISH
X-PUBLISHED-TTL:P3D
REFRESH-INTERVAL:P3D
CALSCALE:GREGORIAN
BEGIN:VEVENT
DTSTART:20160912T213000Z
DTEND:20160913T010000Z
X-MICROSOFT-CDO-ALLDAYEVENT:FALSE
SUMMARY:Tacos for Tires! Monday Fundraiser Night at Casa Rio
DESCRIPTION:Well\, not just tires  Casa Rio will donate a portion of the proceeds from the evening to support neighbors in need of car repair services.\n\n\n\nEnjoy Casa Rio's famous taco bar and chocolate desert fountain while supporting nonprofit Cars for Neighbors!
X-ALT-DESC;FMTTYPE=text/html:Well\, not just tires&hellip\; Casa Rio will donate a portion of the proceeds from the evening to support neighbors in need of car repair services.<br />\n<br />\nEnjoy Casa Rio&rsquo\;s famous taco bar and chocolate desert fountain while supporting nonprofit Cars for Neighbors!
LOCATION:Casa Rio Tex Mex Restaurant 201 Jackson St\, Anoka
UID:e.380.169123
SEQUENCE:3
DTSTAMP:20260422T052720Z
URL:http://members.metronorthchamber.org/events/details/tacos-for-tires-monday-fundraiser-night-at-casa-rio-09-12-2016-169123
END:VEVENT

END:VCALENDAR
