BEGIN:VCALENDAR
VERSION:2.0
PRODID:-//ChamberMaster//Event Calendar 2.0//EN
METHOD:PUBLISH
X-PUBLISHED-TTL:P3D
REFRESH-INTERVAL:P3D
CALSCALE:GREGORIAN
BEGIN:VEVENT
DTSTART:20130430T233000Z
DTEND:20130501T010000Z
X-MICROSOFT-CDO-ALLDAYEVENT:FALSE
SUMMARY:Taco's for Tummies
DESCRIPTION:Casa Rio Tex Mex Restaurant is hosting our 3rd Annual "Taco's for Tummies" taco eating contest raising money for the foodshelf on Tuesday\, April 30th.  For a $10 donation you'll get a t-shirt + a chance to be in the taco eating contest! Sign in is at 6:30pm and the contest starts at 7pm. The winner of the contest will receive a flat screen TV.  Prizes will also be awarded for 2nd and 3rd place.
X-ALT-DESC;FMTTYPE=text/html:Casa Rio Tex Mex Restaurant is hosting our 3rd Annual &quot\;Taco&#39\;s for Tummies&quot\; taco eating contest raising money for the foodshelf on Tuesday\, April 30th.&nbsp\; For a $10 donation you&#39\;ll get a t-shirt + a chance to be in the taco eating contest! Sign in is at 6:30pm and the contest starts at 7pm. The winner of the contest will receive a flat screen TV.&nbsp\; Prizes will also be awarded for 2nd and 3rd place.
LOCATION:Casa Rio Tex Mex 201 Jackson St Anoka\, MN 55303
UID:e.380.148894
SEQUENCE:3
DTSTAMP:20260425T001842Z
URL:http://members.metronorthchamber.org/events/details/taco-s-for-tummies-04-30-2013-148894
END:VEVENT

END:VCALENDAR
