BEGIN:VCALENDAR
VERSION:2.0
PRODID:-//ChamberMaster//Event Calendar 2.0//EN
METHOD:PUBLISH
X-PUBLISHED-TTL:P3D
REFRESH-INTERVAL:P3D
CALSCALE:GREGORIAN
BEGIN:VEVENT
DTSTART:20170518T123000Z
DTEND:20170518T150000Z
X-MICROSOFT-CDO-ALLDAYEVENT:FALSE
SUMMARY:Surrogate Decision Making for Adults
DESCRIPTION:Anita Raymond\, LISW\, CMC\, is the Program Manager of the Protective Services\, Center for Excellence in Supported Decision Making\, and Care Management & Consultation programs at VOA MN.  At the conclusion of the presentation\, participants will be able to:\n\n	List types\, powers\, and limitations of decision-makers and when decision-makers are needed\n	List at least 5 alternatives to guardianship/conservatorship\n	Understand statutory and practical aspects: when guardianship/conservatorship may be an effective option for a client and when court intervention may not be the best option\n	Describe interaction\, difference\, and similarities between authority of guardian\, health care agent\, family member\, attorney-in-fact\, and conservator
X-ALT-DESC;FMTTYPE=text/html:Anita Raymond\, LISW\, CMC\, is the Program Manager of the Protective Services\, Center for Excellence in Supported Decision Making\, and Care Management &amp\; Consultation programs at VOA MN. &nbsp\;At the conclusion of the presentation\, participants will be able to:\n<ul>\n	<li>List types\, powers\, and limitations of decision-makers and when decision-makers are needed</li>\n	<li>List at least 5 alternatives to guardianship/conservatorship</li>\n	<li>Understand statutory and practical aspects: when guardianship/conservatorship may be an effective option for a client and when court intervention may not be the best option</li>\n	<li>Describe interaction\, difference\, and similarities between authority of guardian\, health care agent\, family member\, attorney-in-fact\, and conservator</li>\n</ul>\n
LOCATION:Bel Rae Senior Living 2300 Mounds View Blvd. Mounds View\, MN 55112
UID:e.380.175051
SEQUENCE:3
DTSTAMP:20260421T152447Z
URL:http://members.metronorthchamber.org/events/details/surrogate-decision-making-for-adults-175051
END:VEVENT

END:VCALENDAR
