BEGIN:VCALENDAR
VERSION:2.0
PRODID:-//ChamberMaster//Event Calendar 2.0//EN
METHOD:PUBLISH
X-PUBLISHED-TTL:P3D
REFRESH-INTERVAL:P3D
CALSCALE:GREGORIAN
BEGIN:VEVENT
DTSTART:20170408T150000Z
DTEND:20170408T160000Z
X-MICROSOFT-CDO-ALLDAYEVENT:FALSE
SUMMARY:Supplements\, Chiropractic\, Massage\, Mantras and all other things fitness Seminar
DESCRIPTION:What other things paly into your health and well-being?\n\nDo I really need Chiropractic if my back doesn't hurt?  Isn't massage just a luxury? Why take supplements\, can't I get what I need from real food?\n\nMantras!? Why the heck do I need them.....\n\n\n\nProfessional Photographer available for after\, during or getting started pictures
X-ALT-DESC;FMTTYPE=text/html:What other things paly into your health and well-being?<br />\nDo I really need Chiropractic if my back doesn&#39\;t hurt? &nbsp\;Isn&#39\;t massage just a luxury? Why take supplements\, can&#39\;t I get what I need from real food?<br />\nMantras!? Why the heck do I need them.....<br />\n<br />\nProfessional Photographer available for after\, during or getting started pictures
LOCATION:Anytime Fitness Ham Lake 1321 Andover Blvd NE Ham Lake MN 55304
UID:e.380.171721
SEQUENCE:3
DTSTAMP:20260421T171049Z
URL:http://members.metronorthchamber.org/events/details/supplements-chiropractic-massage-mantras-and-all-other-things-fitness-seminar-171721
END:VEVENT

END:VCALENDAR
