BEGIN:VCALENDAR
VERSION:2.0
PRODID:-//ChamberMaster//Event Calendar 2.0//EN
METHOD:PUBLISH
X-PUBLISHED-TTL:P3D
REFRESH-INTERVAL:P3D
CALSCALE:GREGORIAN
BEGIN:VEVENT
DTSTART:20180204T223000Z
DTEND:20180205T033000Z
X-MICROSOFT-CDO-ALLDAYEVENT:FALSE
SUMMARY:Super Football Sunday Party
DESCRIPTION:Running Aces exclusive party for the big game. Tickets include admission to the private party featuring a free Miller Lite\, Appetizer Buffet\, and Tailgate games.Tickets are available for purchase for $25 at the Aces Rewards Front Desk. Space is limited
X-ALT-DESC;FMTTYPE=text/html:Running Aces exclusive party for the big game. Tickets include admission to the private party featuring a free Miller Lite\, Appetizer Buffet\, and Tailgate games.Tickets are available for purchase for $25 at the Aces Rewards Front Desk. Space is limited
LOCATION:Running Aces Casino & Racetrack
UID:e.380.179576
SEQUENCE:3
DTSTAMP:20260421T022925Z
URL:http://members.metronorthchamber.org/events/details/super-football-sunday-party-179576
END:VEVENT

END:VCALENDAR
