BEGIN:VCALENDAR
VERSION:2.0
PRODID:-//ChamberMaster//Event Calendar 2.0//EN
METHOD:PUBLISH
X-PUBLISHED-TTL:P3D
REFRESH-INTERVAL:P3D
CALSCALE:GREGORIAN
BEGIN:VEVENT
DTSTART:20190317T160000Z
DTEND:20190317T190000Z
X-MICROSOFT-CDO-ALLDAYEVENT:FALSE
SUMMARY:Sunday Brunch Bingo
DESCRIPTION:Brunch Bingo features a $15 breakfast buffet with bloody mary and mimosa specials.
X-ALT-DESC;FMTTYPE=text/html:<p><span style="color:rgb(51\, 51\, 51)\; font-family:helvetica\,sans-serif\; font-size:9pt">Brunch Bingo features a $15 breakfast buffet with bloody mary and mimosa specials.</span></p>\n
LOCATION:Running Aces Casino and Racetrack
UID:e.380.187062
SEQUENCE:3
DTSTAMP:20260420T060319Z
URL:http://members.metronorthchamber.org/events/details/sunday-brunch-bingo-03-17-2019-187062
END:VEVENT

END:VCALENDAR
