BEGIN:VCALENDAR
VERSION:2.0
PRODID:-//ChamberMaster//Event Calendar 2.0//EN
METHOD:PUBLISH
X-PUBLISHED-TTL:P3D
REFRESH-INTERVAL:P3D
CALSCALE:GREGORIAN
BEGIN:VEVENT
DTSTART:20120621T213000Z
DTEND:20120622T003000Z
X-MICROSOFT-CDO-ALLDAYEVENT:FALSE
SUMMARY:Summer Food Fest 2012
DESCRIPTION:We invite you to participate in this one-of-a-kind event!\n\n \n\nOver 700 people were at this event last year and this year promises to be even bigger & better!\n\n\n\nLocal restaurants will provide samples of food & showcase their menus to hundreds of community members   from families to business and community leaders.\n\n \n\nThere will be a multitude of family-oriented entertainment options\, such as music\, clowns\, face painting\, inflatable's\, and more.\n\n \n\nProceeds will benefit Free2B!\, a local non-profit that supports families with their transportation needs\, as well as the MetroNorth Chamber\, a non-profit organization supporting area businesses and economic development.\n\n\n\nThe Summer Food Fest is proud to be a drop-off site for Toys for Joy\; bring a new unwrapped toy for Toys for Joy and receive a FREE SODA!\n\n\n\nParticipating food vendors:\n\nAcapulco Mexican Restaurant - Grilled steak and chicken tacos\n\nAxel's Bonfire - Bull Bites\n\nBakers Square Restaurant & Pies - Pies and pie-eating contest\n\nBuca Di Beppo Italian Restaurant - Tiramasu\n\nBig Dipper Ice Cream Parlor - 12 Flavors of Ice Cream\n\nBuffalo Wild Wings - Wings\n\nChili's Restaurant - Chips & Salsa w/sample of Fire Grilled Guacamole and Strawberry Lemonade\n\nChubby's Deli - Sandwich Samples\n\nCostco - Water (2 sizes)\n\nCub Foods - Fruit Kabobs\n\nCupcake Crazy - Cupcakes\n\nDickey's Barbecue Pit - Pulled pork sandwiches\, BBQ beans and cold slaw\n\nDunn Bros Coffee - Iced Nirvana\, cold press coffee\, and Coffee\n\nGold's Gym - Smoothies & Protein Bars\n\nGreen Mill Restaurant and Bar - Pizza Squares\, & more\n\nHarvet Grill\n\nHot Wok Delivery - Cream cheese wantons\, egg rolls\, beef skewers\, pork fried rice\n\nJimmy John's - Mini sandwiches\,PePe\, Turkey Tom\, Vegetarian\n\nOlive Garden - Italian Delights\n\nNoodles & Company - Salad & Pasta Dish\n\nPanera Bread - Mini Pastries\n\nPerkins Restaurant & Bakery - Muffins\, brownies and cookies\n\nRed Ginger - Asian Tastes\n\nSam's Club - Fresh baked assorted cookies\n\nSubway - Party platter of subs\, fresh baked cookies\n\nThe 46th Hole - Tasty Salads\n\nThe Tavern Grill Restaurant & Bar\n\nTime Out Restaurant & Sports Bar - Five Cheese pasta\n\nToys for Joy - Snow Cones\n\nTwo Stooges Sports Bar & Grill - Wings\, Brew Burgers\, and Bar
X-ALT-DESC;FMTTYPE=text/html:<span style="color: rgb(0\, 0\, 205)\;"><strong>We invite you to participate in this one-of-a-kind event!</strong><br />\n&nbsp\;<br />\nOver 700 people were at this event last year and this year promises to be even bigger &amp\; better!<br />\n<br />\nLocal restaurants will provide samples of food &amp\; showcase their menus to hundreds of community members &ndash\; from families to business and community leaders.<br />\n&nbsp\;<br />\nThere will be a multitude of family-oriented entertainment options\, such as music\, clowns\, face painting\, inflatable&rsquo\;s\, and more.<br />\n&nbsp\;<br />\nProceeds will benefit Free2B!\, a local non-profit that supports families with their transportation needs\, as well as the MetroNorth Chamber\, a non-profit organization supporting area businesses and economic development.<br />\n<br />\nThe Summer Food Fest is proud to be a drop-off site for Toys for Joy\; bring a new unwrapped toy for Toys for Joy and receive a FREE SODA!<br />\n<br />\nParticipating food vendors:<br />\nAcapulco Mexican Restaurant - Grilled steak and chicken tacos<br />\nAxel&#39\;s Bonfire - Bull Bites<br />\nBakers Square Restaurant &amp\; Pies - Pies and pie-eating contest<br />\nBuca Di Beppo Italian Restaurant - Tiramasu<br />\nBig Dipper Ice Cream Parlor - 12 Flavors of Ice Cream<br />\nBuffalo Wild Wings - Wings</span><br />\n<span style="color:#0000cd\;">Chili&#39\;s Restaurant - Chips &amp\; Salsa w/sample of Fire Grilled Guacamole and Strawberry Lemonade</span><br />\n<span style="color: rgb(0\, 0\, 205)\;">Chubby&#39\;s Deli - Sandwich Samples<br />\nCostco - Water (2 sizes)<br />\nCub Foods - Fruit Kabobs<br />\nCupcake Crazy - Cupcakes<br />\nDickey&#39\;s Barbecue Pit - Pulled pork sandwiches\, BBQ beans and cold slaw<br />\nDunn Bros Coffee - Iced Nirvana\, cold press coffee\, and Coffee<br />\nGold&#39\;s Gym - Smoothies &amp\; Protein Bars<br />\nGreen Mill Restaurant and Bar - Pizza Squares\, &amp\; more<br />\nHarvet Grill<br />\nHot Wok Delivery - Cream cheese wantons\, egg rolls\, beef skewers\, pork fried rice<br />\nJimmy John&#39\;s - Mini sandwiches\,PePe\, Turkey Tom\, Vegetarian<br />\nOlive Garden - Italian Delights<br />\nNoodles &amp\; Company - Salad &amp\; Pasta Dish<br />\nPanera Bread - Mini Pastries<br />\nPerkins Restaurant &amp\; Bakery - Muffins\, brownies and cookies<br />\nRed Ginger - Asian Tastes<br />\nSam&#39\;s Club - Fresh baked assorted cookies<br />\nSubway - Party platter of subs\, fresh baked cookies<br />\nThe 46th Hole - Tasty Salads<br />\nThe Tavern Grill Restaurant &amp\; Bar<br />\nTime Out Restaurant &amp\; Sports Bar - Five Cheese pasta<br />\nToys for Joy - Snow Cones<br />\nTwo Stooges Sports Bar &amp\; Grill - Wings\, Brew Burgers\, and Bar</span><br />\n<br />\n
LOCATION:Aquatore Park\, Blaine (next to Fogerty Arena) - 9191 Lincoln St.
UID:e.380.144708
SEQUENCE:3
DTSTAMP:20260425T161714Z
URL:http://members.metronorthchamber.org/events/details/summer-food-fest-2012-06-21-2012-144708
END:VEVENT

END:VCALENDAR
