BEGIN:VCALENDAR
VERSION:2.0
PRODID:-//ChamberMaster//Event Calendar 2.0//EN
METHOD:PUBLISH
X-PUBLISHED-TTL:P3D
REFRESH-INTERVAL:P3D
CALSCALE:GREGORIAN
BEGIN:VEVENT
DTSTART:20160614T213000Z
DTEND:20160615T000000Z
X-MICROSOFT-CDO-ALLDAYEVENT:FALSE
SUMMARY:Summer Food Fest
DESCRIPTION:Your ticket to this family-fun event includes food samples from over 20 local restaurants\, Krazy Hair\, balloon art\, inflatables\, and more.
X-ALT-DESC;FMTTYPE=text/html:Your ticket to this family-fun event includes food samples from over&nbsp\;20 local restaurants\, Krazy Hair\,&nbsp\;balloon art\, inflatables\, and more.
LOCATION:Aquatore Park\, Blaine (Hwy 10 and Hwy 65\, between Senior Center and Fogerty Arena)
UID:e.380.163406
SEQUENCE:3
DTSTAMP:20260422T102949Z
URL:http://members.metronorthchamber.org/events/details/summer-food-fest-06-14-2016-163406
END:VEVENT

END:VCALENDAR
