BEGIN:VCALENDAR
VERSION:2.0
PRODID:-//ChamberMaster//Event Calendar 2.0//EN
METHOD:PUBLISH
X-PUBLISHED-TTL:P3D
REFRESH-INTERVAL:P3D
CALSCALE:GREGORIAN
BEGIN:VEVENT
DTSTART:20180629T000000Z
DTEND:20180629T013000Z
X-MICROSOFT-CDO-ALLDAYEVENT:FALSE
SUMMARY:Summer Concert Series - Gravel Roads
DESCRIPTION:Summer Concert Series - Gravel Roads\n\n\nThursday\, June 28\, 2018\nBring a lawn chair or blanket and enjoy an evening of free entertainment at the performance pavilion. Concessions available for purchase. Free parking. \n\nUpcoming Concerts: July 12 - Ecuador Manta July 19 - Good Foot Express July 26 - Castaways August 2 - Big E & The Collins Blues Company August 9 - The Red Letter Band
X-ALT-DESC;FMTTYPE=text/html:<h2 id="ctl00_ctl00_MainContent_ModuleContent_ctl00_ctl03_eventTitle" style="box-sizing: content-box\; margin: 0px 0px 3px\; padding: 0px 50px 0px 0px\; border: 0px\; outline: 0px\; font-size: 15pt\; font-family: inherit\; vertical-align: baseline\;"><span itemprop="name" style="box-sizing: content-box\; margin: 0px\; padding: 0px\; border: 0px\; font-size: 14.4px\; font-family: Arial\; vertical-align: baseline\; outline: 0px\; color: rgb(51\, 51\, 51)\; background-color: rgb(255\, 255\, 255)\;">Summer Concert Series - Gravel Roads</span></h2>\n\n<div class="detailDateDesc" style="box-sizing: content-box\; margin: 0px\; padding: 0px 0px 0px 60px\; border: 0px\; outline: 0px\; font-size: 14.4px\; font-family: Arial\; vertical-align: baseline\; background: url(&quot\;/common/images/Calendar/CalendarModuleIconSmall.png&quot\;) 0px 5px no-repeat rgb(255\, 255\, 255)\; min-height: 55px\; color: rgb(51\, 51\, 51)\;">\n<h3 id="ctl00_ctl00_MainContent_ModuleContent_ctl00_ctl03_eventDate" style="box-sizing: content-box\; margin: 0px\; padding: 0px\; border: 0px\; outline: 0px\; font-size: 1em\; font-family: inherit\; vertical-align: baseline\; color: rgb(51\, 43\, 39)\;">Thursday\, June 28\, 2018</h3>\nBring a lawn chair or blanket and enjoy an evening of free entertainment at the performance pavilion. Concessions available for purchase. Free parking.&nbsp\;<br style="box-sizing: content-box\;" />\nUpcoming Concerts: July 12 - Ecuador Manta July 19 - Good Foot Express July 26 - Castaways August 2 - Big E &amp\; The Collins Blues Company August 9 - The Red Letter Band</div>\n
LOCATION:Location: Coon Rapids Dam Regional Park (Anoka County) Address: 9750 Egret Boulevard Coon Rapids\, MN 55433
UID:e.380.184876
SEQUENCE:3
DTSTAMP:20260420T201005Z
URL:http://members.metronorthchamber.org/events/details/summer-concert-series-gravel-roads-184876
END:VEVENT

END:VCALENDAR
