BEGIN:VCALENDAR
VERSION:2.0
PRODID:-//ChamberMaster//Event Calendar 2.0//EN
METHOD:PUBLISH
X-PUBLISHED-TTL:P3D
REFRESH-INTERVAL:P3D
CALSCALE:GREGORIAN
BEGIN:VEVENT
DTSTART:20180608T000000Z
DTEND:20180608T013000Z
X-MICROSOFT-CDO-ALLDAYEVENT:FALSE
SUMMARY:Summer Concert Series - Capri Big Band
DESCRIPTION:Thursday\, June 7\, 2018\nBring a lawn chair or blanket and enjoy an evening of free entertainment at the performance pavilion. Concessions available for purchase. Free parking. \n\n \nUpcoming Concerts: June 14 - Backyard Band June 21 - The Authorities June 28 - Gravel Roads July 12 - Ecuador Manta July 19 - Good Foot Express July 26 - Castaways August 2 - Big E & The Collins Blues Company August 9 - The Red Letter Band
X-ALT-DESC;FMTTYPE=text/html:<h3 id="ctl00_ctl00_MainContent_ModuleContent_ctl00_ctl03_eventDate" style="box-sizing: content-box\; margin: 0px\; padding: 0px\; border: 0px\; outline: 0px\; font-size: 1em\; font-family: Arial\; vertical-align: baseline\; color: rgb(51\, 43\, 39)\; background-color: rgb(255\, 255\, 255)\;">Thursday\, June 7\, 2018</h3>\n<span style="color: rgb(51\, 51\, 51)\; font-family: Arial\; font-size: 14.4px\; background-color: rgb(255\, 255\, 255)\;">Bring a lawn chair or blanket and enjoy an evening of free entertainment at the performance pavilion. Concessions available for purchase. Free parking.&nbsp\;</span><br style="box-sizing: content-box\; color: rgb(51\, 51\, 51)\; font-family: Arial\; font-size: 14.4px\; background-color: rgb(255\, 255\, 255)\;" />\n&nbsp\;\n<div><span style="color: rgb(51\, 51\, 51)\; font-family: Arial\; font-size: 14.4px\; background-color: rgb(255\, 255\, 255)\;">Upcoming Concerts: June 14 - Backyard Band June 21 - The Authorities June 28 - Gravel Roads July 12 - Ecuador Manta July 19 - Good Foot Express July 26 - Castaways August 2 - Big E &amp\; The Collins Blues Company August 9 - The Red Letter Band</span></div>\n
LOCATION:
UID:e.380.184873
SEQUENCE:3
DTSTAMP:20260420T213132Z
URL:http://members.metronorthchamber.org/events/details/summer-concert-series-capri-big-band-184873
END:VEVENT

END:VCALENDAR
