BEGIN:VCALENDAR
VERSION:2.0
PRODID:-//ChamberMaster//Event Calendar 2.0//EN
METHOD:PUBLISH
X-PUBLISHED-TTL:P3D
REFRESH-INTERVAL:P3D
CALSCALE:GREGORIAN
BEGIN:VEVENT
DTSTART:20170622T130000Z
DTEND:20170622T143000Z
X-MICROSOFT-CDO-ALLDAYEVENT:FALSE
SUMMARY:Summer 2017 Statewide Policy Tour
DESCRIPTION:Please join us as at a location near you as we wrap up the 2017 legislative session. Learn how your priorities fared   how the actions and inactions at the Capitol affect your ability to succeed and grow jobs in Minnesota. Then dig deeper into specific issues\, and help us set our agenda for the 2018 Legislature. Network with your peers\, and become engaged in our grassroots efforts.\n\n\n	Network with your peers.\n	Discuss policy changes to help your business succeed and grow jobs in Minnesota.\n	Engage in our grassroots efforts.\n	Tour the Parsons facility following the meeting!
X-ALT-DESC;FMTTYPE=text/html:<p style="box-sizing: content-box\; margin: 1em 0px\; padding: 0px\; direction: inherit\; font-family: Corbel\; font-size: 19px\; line-height: inherit\; text-rendering: optimizeLegibility\; bottom: auto\; clear: none\; color: rgb(0\, 0\, 0)\; content: normal\; empty-cells: show\; float: none\; font-variant-numeric: inherit\; font-stretch: inherit\; left: auto\; max-height: none\; max-width: none\; min-height: initial\; min-width: initial\; opacity: 1\; outline-offset: 0px\; overflow: visible\; position: static\; resize: none\; right: auto\; table-layout: auto\; text-overflow: clip\; top: auto\; vertical-align: baseline\; visibility: inherit\; word-break: inherit\; word-wrap: inherit\; z-index: auto\; background-image: none\; background-position: initial\; background-size: initial\; background-repeat: initial\; background-attachment: initial\; background-origin: initial\; background-clip: initial\; border: none\; border-collapse: separate\; border-radius: 0px\; height: auto\; width: auto\; box-shadow: none\;">Please join us as at a location near you&nbsp\;as we wrap up the 2017 legislative session. Learn how your priorities fared &ndash\; how the actions and inactions at the Capitol affect your ability to succeed and grow jobs in Minnesota. Then dig deeper into specific issues\, and help us set our agenda for the 2018 Legislature. Network with your peers\, and become engaged in our grassroots efforts.</p>\n\n<ul style="box-sizing: content-box\; margin: 1em 0px\; padding-right: 0px\; direction: inherit\; font-size: 19px\; line-height: inherit\; list-style-position: outside\; list-style-image: none\; font-family: Corbel\; color: rgb(0\, 0\, 0)\; bottom: auto\; clear: none\; content: normal\; empty-cells: show\; float: none\; font-variant-numeric: inherit\; font-stretch: inherit\; left: auto\; max-height: none\; max-width: none\; min-height: initial\; min-width: initial\; opacity: 1\; outline-offset: 0px\; overflow: visible\; position: static\; resize: none\; right: auto\; table-layout: auto\; text-overflow: clip\; top: auto\; vertical-align: baseline\; visibility: inherit\; word-break: inherit\; word-wrap: inherit\; z-index: auto\; background-image: none\; background-position: initial\; background-size: initial\; background-repeat: initial\; background-attachment: initial\; background-origin: initial\; background-clip: initial\; border: none\; border-collapse: separate\; border-radius: 0px\; height: auto\; width: auto\; box-shadow: none\;">\n	<li style="box-sizing: content-box\; margin: 0px\; padding: 0px\; direction: inherit\; bottom: auto\; clear: none\; color: inherit\; content: normal\; empty-cells: show\; float: none\; font-style: inherit\; font-variant: inherit\; font-weight: inherit\; font-stretch: inherit\; font-size: inherit\; font-family: inherit\; left: auto\; letter-spacing: inherit\; line-height: inherit\; max-height: none\; max-width: none\; min-height: initial\; min-width: initial\; opacity: 1\; outline-offset: 0px\; overflow: visible\; position: static\; resize: none\; right: auto\; table-layout: auto\; text-indent: inherit\; text-overflow: clip\; text-transform: inherit\; top: auto\; vertical-align: baseline\; visibility: inherit\; white-space: inherit\; word-break: inherit\; word-spacing: inherit\; word-wrap: inherit\; z-index: auto\; background: none\; border: none\; border-collapse: separate\; border-radius: 0px\; height: auto\; width: auto\; box-shadow: none\; list-style: disc outside none\;">Network with your peers.</li>\n	<li style="box-sizing: content-box\; margin: 0px\; padding: 0px\; direction: inherit\; bottom: auto\; clear: none\; color: inherit\; content: normal\; empty-cells: show\; float: none\; font-style: inherit\; font-variant: inherit\; font-weight: inherit\; font-stretch: inherit\; font-size: inherit\; font-family: inherit\; left: auto\; letter-spacing: inherit\; line-height: inherit\; max-height: none\; max-width: none\; min-height: initial\; min-width: initial\; opacity: 1\; outline-offset: 0px\; overflow: visible\; position: static\; resize: none\; right: auto\; table-layout: auto\; text-indent: inherit\; text-overflow: clip\; text-transform: inherit\; top: auto\; vertical-align: baseline\; visibility: inherit\; white-space: inherit\; word-break: inherit\; word-spacing: inherit\; word-wrap: inherit\; z-index: auto\; background: none\; border: none\; border-collapse: separate\; border-radius: 0px\; height: auto\; width: auto\; box-shadow: none\; list-style: disc outside none\;">Discuss policy changes to help your business succeed and grow jobs in Minnesota.</li>\n	<li style="box-sizing: content-box\; margin: 0px\; padding: 0px\; direction: inherit\; bottom: auto\; clear: none\; color: inherit\; content: normal\; empty-cells: show\; float: none\; font-style: inherit\; font-variant: inherit\; font-weight: inherit\; font-stretch: inherit\; font-size: inherit\; font-family: inherit\; left: auto\; letter-spacing: inherit\; line-height: inherit\; max-height: none\; max-width: none\; min-height: initial\; min-width: initial\; opacity: 1\; outline-offset: 0px\; overflow: visible\; position: static\; resize: none\; right: auto\; table-layout: auto\; text-indent: inherit\; text-overflow: clip\; text-transform: inherit\; top: auto\; vertical-align: baseline\; visibility: inherit\; white-space: inherit\; word-break: inherit\; word-spacing: inherit\; word-wrap: inherit\; z-index: auto\; background: none\; border: none\; border-collapse: separate\; border-radius: 0px\; height: auto\; width: auto\; box-shadow: none\; list-style: disc outside none\;">Engage in our grassroots efforts.</li>\n	<li style="box-sizing: content-box\; margin: 0px\; padding: 0px\; direction: inherit\; bottom: auto\; clear: none\; color: inherit\; content: normal\; empty-cells: show\; float: none\; font-style: inherit\; font-variant: inherit\; font-weight: inherit\; font-stretch: inherit\; font-size: inherit\; font-family: inherit\; left: auto\; letter-spacing: inherit\; line-height: inherit\; max-height: none\; max-width: none\; min-height: initial\; min-width: initial\; opacity: 1\; outline-offset: 0px\; overflow: visible\; position: static\; resize: none\; right: auto\; table-layout: auto\; text-indent: inherit\; text-overflow: clip\; text-transform: inherit\; top: auto\; vertical-align: baseline\; visibility: inherit\; white-space: inherit\; word-break: inherit\; word-spacing: inherit\; word-wrap: inherit\; z-index: auto\; background: none\; border: none\; border-collapse: separate\; border-radius: 0px\; height: auto\; width: auto\; box-shadow: none\; list-style: disc outside none\;">Tour the Parsons facility following the meeting!</li>\n</ul>\n
LOCATION:Parsons Electric 5960 Main Street NE Fridley 55432
UID:e.380.175282
SEQUENCE:3
DTSTAMP:20260421T135238Z
URL:http://members.metronorthchamber.org/events/details/summer-2017-statewide-policy-tour-175282
END:VEVENT

END:VCALENDAR
