BEGIN:VCALENDAR
VERSION:2.0
PRODID:-//ChamberMaster//Event Calendar 2.0//EN
METHOD:PUBLISH
X-PUBLISHED-TTL:P3D
REFRESH-INTERVAL:P3D
CALSCALE:GREGORIAN
BEGIN:VEVENT
DTSTART:20120925T130000Z
DTEND:20120925T203000Z
X-MICROSOFT-CDO-ALLDAYEVENT:FALSE
SUMMARY:Succeeding in Sales and Social Media
DESCRIPTION:The MetroNorth Chamber is proud to announce an event that will help you gain a wealth of knowledge in sales and social media!\n\n\n\nSucceeding in Sales and Social Media\,\n\na Business Development Symposium\n\n\n\n8-8:30am\n\nCheck-in & Networking\n\n\n\n8:30-9:20am\n\nKeynote Jeff Ferrazzo:\n\nEngagement Marketing "How Business Wins in a Socially Connected World"\n\n\n\n9:30-10:20am \n\nBreakout A  (attend one session):\n\n1) Social Media Marketing Made Simple with Chris Prescott\n\n2) Supercharge Your Facebook Marketing with Jeff Ferrazzo\n\n3) Online Video for Sales & Marketing with Mark Mazur\n\n\n\n10:30-11:20am \n\nBreakout B  (attend one session):\n\n1) Facebook for Business with Tena Pettis\n\n2) Power of Email Marketing with Mary Albright\n\n3) Time Saving Apps for Entrepreneurs with Mary Pokluda\n\n\n\n 11:30-12:30pm\n\nLunch/Microsoft Store\n\n\n\n12:30-1:20pm\n\nBreakout C  (attend one session):\n\n1) Twitter/Blogging with Nick Rosener\n\n2) Ten SEO Tips for Driving Traffic with Andrea Douglas\n\n3)  50 Sales Tips in 50 minutes with Scott Plum\n\n\n\n1:30-2:20pm\n\nBreakout D  (attend one session):\n\n1) LinkedIn with Tena Pettis\n\n2) Conversion\, and the Art of Turning Traffic Into Clients with Nick Rosner\n\n3) Without Words   Understanding Nonverbal Communication with Stacey Okan\n\n\n\n 2:30-3:30pm\n\nHigh Energy Interactive Cool Down   The Innovation Game\n\nA facilitated exercise that will help you build your own action plan from today's sessions.
X-ALT-DESC;FMTTYPE=text/html:<span style="font-size:10px\;"><span style="color: rgb(0\, 0\, 128)\;">The MetroNorth Chamber is proud to announce an event that will help you gain a wealth of knowledge in sales and social media!<br />\n<br />\nSucceeding in Sales and Social Media\,<br />\na Business Development Symposium</span><br />\n<br />\n<span style="color: rgb(0\, 0\, 128)\;">8-8:30am</span><br />\n<span style="color: rgb(0\, 0\, 128)\;">Check-in &amp\; Networking<br />\n<br />\n8:30-9:20am</span><br />\n<span style="color: rgb(0\, 0\, 128)\;">Keynote Jeff <span>Ferrazzo</span>:</span><br />\n<span style="color: rgb(0\, 0\, 128)\;">Engagement Marketing &quot\;How Business Wins in a Socially Connected World&quot\;<br />\n<br />\n9:30-10:20am</span>&nbsp\;<br />\n<span style="color: rgb(0\, 0\, 128)\;">Breakout A&nbsp\; (attend one session):<br />\n</span><span style="color: rgb(0\, 0\, 128)\;"><span style="font-family: tahoma\;">1) Social Media Marketing Made Simple with Chris Prescott</span></span><br />\n<span style="color: rgb(0\, 0\, 128)\;"><span style="font-family: tahoma\;">2) Supercharge Your Facebook Marketing with Jeff Ferrazzo</span></span><br />\n<span style="color: rgb(0\, 0\, 128)\;"><span style="font-family: tahoma\;">3) Online Video for Sales &amp\; Marketing with Mark Mazur<br />\n<br />\n10:30-11:20am&nbsp\;<br />\nBreakout B&nbsp\; (attend one session):<br />\n</span></span><span style="color: rgb(0\, 0\, 128)\;"><span style="font-family: tahoma\;">1) Facebook for Business with Tena Pettis<br />\n</span></span><span style="color: rgb(0\, 0\, 128)\;"><span style="font-family: tahoma\;">2) Power of Email Marketing with Mary Albright</span></span><br />\n<span style="color: rgb(0\, 0\, 128)\;"><span style="font-family: tahoma\;">3) </span></span><span style="color:#000080\;"><span style="font-family: tahoma\;">Time Saving Apps for Entrepreneurs with Mary Pokluda</span></span></span><br />\n<br />\n<span style="font-size:10px\;"><span style="color: rgb(0\, 0\, 128)\;"><span style="font-family: tahoma\;"> 11:30-12:30pm<br />\nLunch/Microsoft Store<br />\n<br />\n12:30-1:20pm</span></span><br />\n<span style="color: rgb(0\, 0\, 128)\;"><span style="font-family: tahoma\;">Breakout C&nbsp\; (attend one session):<br />\n</span></span><span style="color: rgb(0\, 0\, 128)\;"><span style="font-family: tahoma\;">1) Twitter/Blogging with Nick Rosener</span></span><br />\n<span style="color: rgb(0\, 0\, 128)\;"><span style="font-family: tahoma\;">2) Ten SEO Tips for Driving Traffic with Andrea Douglas<br />\n</span></span><span style="color: rgb(0\, 0\, 128)\;"><span style="font-family: tahoma\;">3)&nbsp\; 50 Sales Tips in 50 minutes with Scott Plum<br />\n<br />\n1:30-2:20pm</span></span><br />\n<span style="color: rgb(0\, 0\, 128)\;"><span style="font-family: tahoma\;">Breakout D&nbsp\; (attend one session):<br />\n</span></span><span style="color: rgb(0\, 0\, 128)\;"><span style="font-family: tahoma\;">1) LinkedIn with Tena Pettis<br />\n</span></span><span style="color: rgb(0\, 0\, 128)\;"><span style="font-family: tahoma\;">2) Conversion\, and the Art of Turning Traffic Into Clients with Nick Rosner<br />\n</span></span><span style="color: rgb(0\, 0\, 128)\;"><span style="font-family: tahoma\;">3) </span></span><span style="color:#000080\;"><span style="font-family: tahoma\;">Without Words &ndash\; Understanding Nonverbal Communication with Stacey Okan</span></span></span><br />\n<br />\n<span style="font-size:10px\;"><span style="color: rgb(0\, 0\, 128)\;"><span style="font-family: tahoma\;"> 2:30-3:30pm</span></span><br />\n<span style="color:#000080\;"><span style="font-family: tahoma\;">High Energy Interactive Cool Down &ndash\; The Innovation Game<br />\n<em>A facilitated exercise that will help you build your own action plan from today&rsquo\;s sessions.</em></span></span></span>
LOCATION:Rasmussen College\, Blaine Campus 3629 95th Ave. NE Blaine\, MN 55014
UID:e.380.146221
SEQUENCE:3
DTSTAMP:20260425T113926Z
URL:http://members.metronorthchamber.org/events/details/succeeding-in-sales-and-social-media-09-25-2012-146221
END:VEVENT

END:VCALENDAR
