BEGIN:VCALENDAR
VERSION:2.0
PRODID:-//ChamberMaster//Event Calendar 2.0//EN
METHOD:PUBLISH
X-PUBLISHED-TTL:P3D
REFRESH-INTERVAL:P3D
CALSCALE:GREGORIAN
BEGIN:VEVENT
DTSTART:20161014T233000Z
DTEND:20161015T013000Z
X-MICROSOFT-CDO-ALLDAYEVENT:FALSE
SUMMARY:StriXe Out Hunger
DESCRIPTION:StriXe Out Hunger Fundraiser Moonlight Bowling Fundraiser! \n\nFun Fall Event for the Whole Family!\n\nTickets: $15 in advance - $20 at the door\n\n$50 MAX for household\n\n*tickets covers bowling\, ball and shoe rental*\n\nFEATURING: Silent Auctions -Colored Pin Prizes-Giant Pumpkin contest\, Rafles for Custom Golf Club Set and Soft Serve Icecream Event Rental- No-Tap Scoring-Kids Crafts-Costume Contests\, and more!\n\nCall NACE for tickets @ 763-434-7685.
X-ALT-DESC;FMTTYPE=text/html:<strong>StriXe Out Hunger Fundraiser Moonlight Bowling Fundraiser! </strong><br />\nFun Fall Event for the Whole Family!<br />\nTickets: $15 in advance - $20 at the door<br />\n$50 MAX for household<br />\n<em>*tickets covers bowling\, ball and shoe rental*<br />\n<strong>FEATURING:</strong> Silent Auctions -Colored Pin Prizes-Giant Pumpkin contest\, Rafles for Custom Golf Club Set and Soft Serve Icecream Event Rental- No-Tap Scoring-Kids Crafts-Costume Contests\, and more!<br />\nCall NACE for tickets @ 763-434-7685. </em><br />\n&nbsp\;
LOCATION:Ham Lake Lanes 16465 HWY65 NE Ham Lake\, MN 55304
UID:e.380.169496
SEQUENCE:3
DTSTAMP:20260422T032843Z
URL:http://members.metronorthchamber.org/events/details/strixe-out-hunger-169496
END:VEVENT

END:VCALENDAR
