BEGIN:VCALENDAR
VERSION:2.0
PRODID:-//ChamberMaster//Event Calendar 2.0//EN
METHOD:PUBLISH
X-PUBLISHED-TTL:P3D
REFRESH-INTERVAL:P3D
CALSCALE:GREGORIAN
BEGIN:VEVENT
DTSTART:20120215T140000Z
DTEND:20120215T160000Z
X-MICROSOFT-CDO-ALLDAYEVENT:FALSE
SUMMARY:Strictly Business
DESCRIPTION:The Minnesota School of Business and the MetroNorth Chamber of Commerce's Business Educational Leadership Committee present "Strictly Business 2012" on Wed Feb 15\, 8-10 am. \n\n	Carl Nyberg\, CFO HOM Furniture\, begins the morning with a keynote on "Looking Into 2012". Next comes 3 rotating workshops which will provide academic expertise in Business Planning\, Taxes\, and IT Security. Attend just one or all three! After the workshops\, there's an option to stay for one-on-one consultations with the workshop speakers.\n\n	\n\n	7:30-8am - Registration and Networking\n\n	8-8:30am - "Looking Into 2012" Keynote Speaker Carl Nyberg\, CFO HOM Furniture\n\n	8:30-10am - Rotating Workshops (8:30-9am\, 9-9:30am\, and 9:30-10am)\n\n	10-11am - One on One Consultations\n\n	\n\n	Download a copy of the flyer here.
X-ALT-DESC;FMTTYPE=text/html:<p style="margin-top: 0px\; font-family: Tahoma\,Arial\,Helvetica\,sans-serif\; margin-bottom: 0px\;">\n	<span style="font-size:11px\;"><span style="color: rgb(0\, 0\, 128)\;"><span style="font-family: tahoma\;"><span>The Minnesota School of Business and the MetroNorth Chamber of Commerce&#39\;s Business Educational Leadership Committee present &quot\;Strictly Business 2012&quot\;&nbsp\;on Wed Feb 15\, 8-10 am. </span></span></span></span></p>\n<p>\n	<span style="font-size: 11px\;"><span style="color: rgb(0\, 0\, 128)\;"><span style="font-family: tahoma\;"><span>Carl Nyberg\, CFO HOM Furniture\, begins the morning with a keynote on &quot\;Looking Into 2012&quot\;. Next comes 3 rotating workshops which will provide academic expertise in Business Planning\, Taxes\, and IT Security. Attend just one or all three! After the workshops\, there&#39\;s an option to stay for one-on-one consultations with the workshop speakers.</span></span></span><br />\n	<br />\n	<span style="color: rgb(0\, 0\, 128)\;"><span style="font-family: tahoma\;">7:30-8am - Registration and Networking<br />\n	8-8:30am - </span></span></span><span style="font-size:11px\;"><span style="color: rgb(0\, 0\, 128)\;"><span style="font-family: tahoma\;"><span>&quot\;Looking Into 2012&quot\; </span></span></span></span><span style="font-size:11px\;"><span style="color: rgb(0\, 0\, 128)\;"><span style="font-family: tahoma\;">Keynote Speaker Carl Nyberg\, CFO HOM Furniture<br />\n	8:30-10am - Rotating Workshops (8:30-9am\, 9-9:30am\, and 9:30-10am)<br />\n	10-11am - One on One Consultations<br />\n	<br />\n	Download a copy of the flyer <a href="http://cloud.chambermaster.com/userfiles/UserFiles/chambers/380/File/StrictlyBusiness2012_Rev1.pdf">here</a>.</span></span></span></p>\n
LOCATION:Minnesota School of Business 3680 Pheasant Ridge Drive Blaine\, MN 55449
UID:e.380.143030
SEQUENCE:3
DTSTAMP:20260425T225322Z
URL:http://members.metronorthchamber.org/events/details/strictly-business-02-15-2012-143030
END:VEVENT

END:VCALENDAR
