BEGIN:VCALENDAR
VERSION:2.0
PRODID:-//ChamberMaster//Event Calendar 2.0//EN
METHOD:PUBLISH
X-PUBLISHED-TTL:P3D
REFRESH-INTERVAL:P3D
CALSCALE:GREGORIAN
BEGIN:VEVENT
DTSTART:20170218T160000Z
DTEND:20170218T164500Z
X-MICROSOFT-CDO-ALLDAYEVENT:FALSE
SUMMARY:Strength Workouts\, Why? How much? How Many? Seminar
DESCRIPTION:Why should you add strength workouts to your fitness routine? How much weight should you really lift? (hint\, more than the weight of your purse or briefcase)  what about sets and reps and all that other mumbo jumbo?
X-ALT-DESC;FMTTYPE=text/html:Why should you add strength workouts to your fitness routine? How much weight should you really lift? (hint\, more than the weight of your purse or briefcase) &nbsp\;what about sets and reps and all that other mumbo jumbo?
LOCATION:Anytime Fitness Ham Lake 1321 Andover Blvd NE Ham Lake\, MN 55304
UID:e.380.171718
SEQUENCE:3
DTSTAMP:20260421T220948Z
URL:http://members.metronorthchamber.org/events/details/strength-workouts-why-how-much-how-many-seminar-171718
END:VEVENT

END:VCALENDAR
