BEGIN:VCALENDAR
VERSION:2.0
PRODID:-//ChamberMaster//Event Calendar 2.0//EN
METHOD:PUBLISH
X-PUBLISHED-TTL:P3D
REFRESH-INTERVAL:P3D
CALSCALE:GREGORIAN
BEGIN:VEVENT
DTSTART:20150505T140000Z
DTEND:20150505T170000Z
X-MICROSOFT-CDO-ALLDAYEVENT:FALSE
SUMMARY:Strategic Financial Planning for Nonprofits
DESCRIPTION:Northeast Bank is proud to sponsor a FREE half day workshop for local nonprofits titled "Strategic Financial Planning." This advanced workshop is tailored for nonprofit leaders who want to take their management skills to the next level. During this workshop\, you will learn: \n\n\n	Analytical tools to assist in understanding your organization's current financial position and current business model\;\n	Different techniques and approaches to having practical conversations critical to organizational decision-making\;\n	The factors to consider when scenario planning and setting multi-year budgets.\n\n \n\nAfter this workshop\, you will be able to:\n\n\n	Properly balance an emphasis on annual budgeting with scenario planning and multi-year forecasting\;\n	Gain agreement on key organizational goals and priorities\;\n	Ensure that key organizational decision-makers have a shared understanding of the organization's financial health\, business model and financial risks\;\n	Determine what will be necessary to become a more financially dynamic and flexible organization.\n\nClick Here to view more details about this event.
X-ALT-DESC;FMTTYPE=text/html:<br />\nNortheast Bank is proud to sponsor a <strong>FREE half day workshop</strong> for local nonprofits titled &quot\;Strategic Financial Planning.&quot\; This advanced workshop is tailored for nonprofit leaders who want to take their management skills to the next level. During this workshop\, you will learn:&nbsp\;\n\n<ul>\n	<li>Analytical tools to assist in understanding your organization&rsquo\;s current financial position and current business model\;</li>\n	<li>Different techniques and approaches to having practical conversations critical to organizational decision-making\;</li>\n	<li>The factors to consider when scenario planning and setting multi-year budgets.</li>\n</ul>\n&nbsp\;<br />\n<strong>After this workshop\, you will be able to:</strong>\n\n<ul>\n	<li>Properly balance an emphasis on annual budgeting with scenario planning and multi-year forecasting\;</li>\n	<li>Gain agreement on key organizational goals and priorities\;</li>\n	<li>Ensure that key organizational decision-makers have a shared understanding of the organization&#39\;s financial health\, business model and financial risks\;</li>\n	<li>Determine what will be necessary to become a more financially dynamic and flexible organization.</li>\n</ul>\n<span style="color: rgb(0\, 0\, 0)\;">Click</span> <strong><a href="http://www.eventbrite.com/e/northeast-bank-nonprofit-workshop-strategic-financial-planning-registration-16107604278"><span style="color: rgb(0\, 0\, 255)\;">Here</span></a></strong>&nbsp\;<span style="color: rgb(0\, 0\, 0)\;">to view more details about this event.</span>
LOCATION:Walter C. Rasmussen Community Room\, Located at Northeast Bank 77 Broadway Street NE Minneapolis\, MNn 55413
UID:e.380.157242
SEQUENCE:3
DTSTAMP:20260423T083908Z
URL:http://members.metronorthchamber.org/events/details/strategic-financial-planning-for-nonprofits-05-05-2015-157242
END:VEVENT

END:VCALENDAR
